BEGIN:VCALENDAR
VERSION:2.0
PRODID:-//Lustleigh Village Hall - ECPv6.15.20//NONSGML v1.0//EN
CALSCALE:GREGORIAN
METHOD:PUBLISH
X-WR-CALNAME:Lustleigh Village Hall
X-ORIGINAL-URL:https://www.lustleighvillagehall.co.uk
X-WR-CALDESC:Events for Lustleigh Village Hall
REFRESH-INTERVAL;VALUE=DURATION:PT1H
X-Robots-Tag:noindex
X-PUBLISHED-TTL:PT1H
BEGIN:VTIMEZONE
TZID:Europe/London
BEGIN:DAYLIGHT
TZOFFSETFROM:+0000
TZOFFSETTO:+0100
TZNAME:BST
DTSTART:20220327T010000
END:DAYLIGHT
BEGIN:STANDARD
TZOFFSETFROM:+0100
TZOFFSETTO:+0000
TZNAME:GMT
DTSTART:20221030T010000
END:STANDARD
BEGIN:DAYLIGHT
TZOFFSETFROM:+0000
TZOFFSETTO:+0100
TZNAME:BST
DTSTART:20230326T010000
END:DAYLIGHT
BEGIN:STANDARD
TZOFFSETFROM:+0100
TZOFFSETTO:+0000
TZNAME:GMT
DTSTART:20231029T010000
END:STANDARD
BEGIN:DAYLIGHT
TZOFFSETFROM:+0000
TZOFFSETTO:+0100
TZNAME:BST
DTSTART:20240331T010000
END:DAYLIGHT
BEGIN:STANDARD
TZOFFSETFROM:+0100
TZOFFSETTO:+0000
TZNAME:GMT
DTSTART:20241027T010000
END:STANDARD
END:VTIMEZONE
BEGIN:VEVENT
DTSTART;TZID=Europe/London:20231216T190000
DTEND;TZID=Europe/London:20231216T233000
DTSTAMP:20260425T012054
CREATED:20230609T134823Z
LAST-MODIFIED:20231030T104102Z
UID:7566-1702753200-1702769400@www.lustleighvillagehall.co.uk
SUMMARY:LEAP presents...THE LOST SOUND – DARTMOOR FOLK CHOIR
DESCRIPTION:SATURDAY 16th DECEMBER at 7.30pm THE LOST SOUND – DARTMOOR FOLK CHOIR \nWe are thrilled to welcome back The Lost Sound to Lustleigh…. \n‘MAKE WE MERRY’ is a hearty and rousing winter concert to herald in the season’s festivities. \nWith Folky Carols\, Bluesy riffs\, Wassails and a touch of glorious Gospel\, we will warm those chilly nights! \nTickets £12 (£6 under 16s) from Lustleigh Dairy or online through Ticketsource: https://www.ticketsource.co.uk/leaplustleigh \nDoors open 7pm \nLicenced bar
URL:https://www.lustleighvillagehall.co.uk/event/leap-lost-sound
LOCATION:Entire Hall
CATEGORIES:Entertainment,LEAP,Public Events
ATTACH;FMTTYPE=image/jpeg:https://www.lustleighvillagehall.co.uk/wp-content/uploads/2023/06/Lost-Sound-1.jpg
ORGANIZER;CN="Alexa Mason":MAILTO:alexa.uplands@gmail.com
END:VEVENT
END:VCALENDAR