BEGIN:VCALENDAR
VERSION:2.0
PRODID:-//Lustleigh Village Hall - ECPv6.15.20//NONSGML v1.0//EN
CALSCALE:GREGORIAN
METHOD:PUBLISH
X-ORIGINAL-URL:http://www.lustleighvillagehall.co.uk
X-WR-CALDESC:Events for Lustleigh Village Hall
REFRESH-INTERVAL;VALUE=DURATION:PT1H
X-Robots-Tag:noindex
X-PUBLISHED-TTL:PT1H
BEGIN:VTIMEZONE
TZID:Europe/London
BEGIN:DAYLIGHT
TZOFFSETFROM:+0000
TZOFFSETTO:+0100
TZNAME:BST
DTSTART:20180325T010000
END:DAYLIGHT
BEGIN:STANDARD
TZOFFSETFROM:+0100
TZOFFSETTO:+0000
TZNAME:GMT
DTSTART:20181028T010000
END:STANDARD
BEGIN:DAYLIGHT
TZOFFSETFROM:+0000
TZOFFSETTO:+0100
TZNAME:BST
DTSTART:20190331T010000
END:DAYLIGHT
BEGIN:STANDARD
TZOFFSETFROM:+0100
TZOFFSETTO:+0000
TZNAME:GMT
DTSTART:20191027T010000
END:STANDARD
BEGIN:DAYLIGHT
TZOFFSETFROM:+0000
TZOFFSETTO:+0100
TZNAME:BST
DTSTART:20200329T010000
END:DAYLIGHT
BEGIN:STANDARD
TZOFFSETFROM:+0100
TZOFFSETTO:+0000
TZNAME:GMT
DTSTART:20201025T010000
END:STANDARD
BEGIN:DAYLIGHT
TZOFFSETFROM:+0000
TZOFFSETTO:+0100
TZNAME:BST
DTSTART:20210328T010000
END:DAYLIGHT
BEGIN:STANDARD
TZOFFSETFROM:+0100
TZOFFSETTO:+0000
TZNAME:GMT
DTSTART:20211031T010000
END:STANDARD
BEGIN:DAYLIGHT
TZOFFSETFROM:+0000
TZOFFSETTO:+0100
TZNAME:BST
DTSTART:20220327T010000
END:DAYLIGHT
BEGIN:STANDARD
TZOFFSETFROM:+0100
TZOFFSETTO:+0000
TZNAME:GMT
DTSTART:20221030T010000
END:STANDARD
BEGIN:DAYLIGHT
TZOFFSETFROM:+0000
TZOFFSETTO:+0100
TZNAME:BST
DTSTART:20230326T010000
END:DAYLIGHT
BEGIN:STANDARD
TZOFFSETFROM:+0100
TZOFFSETTO:+0000
TZNAME:GMT
DTSTART:20231029T010000
END:STANDARD
BEGIN:DAYLIGHT
TZOFFSETFROM:+0000
TZOFFSETTO:+0100
TZNAME:BST
DTSTART:20240331T010000
END:DAYLIGHT
BEGIN:STANDARD
TZOFFSETFROM:+0100
TZOFFSETTO:+0000
TZNAME:GMT
DTSTART:20241027T010000
END:STANDARD
BEGIN:DAYLIGHT
TZOFFSETFROM:+0000
TZOFFSETTO:+0100
TZNAME:BST
DTSTART:20250330T010000
END:DAYLIGHT
BEGIN:STANDARD
TZOFFSETFROM:+0100
TZOFFSETTO:+0000
TZNAME:GMT
DTSTART:20251026T010000
END:STANDARD
BEGIN:DAYLIGHT
TZOFFSETFROM:+0000
TZOFFSETTO:+0100
TZNAME:BST
DTSTART:20260329T010000
END:DAYLIGHT
BEGIN:STANDARD
TZOFFSETFROM:+0100
TZOFFSETTO:+0000
TZNAME:GMT
DTSTART:20261025T010000
END:STANDARD
BEGIN:DAYLIGHT
TZOFFSETFROM:+0000
TZOFFSETTO:+0100
TZNAME:BST
DTSTART:20270328T010000
END:DAYLIGHT
BEGIN:STANDARD
TZOFFSETFROM:+0100
TZOFFSETTO:+0000
TZNAME:GMT
DTSTART:20271031T010000
END:STANDARD
END:VTIMEZONE
BEGIN:VEVENT
DTSTART;TZID=Europe/London:20200116T190000
DTEND;TZID=Europe/London:20200116T203000
DTSTAMP:20260425T172000
CREATED:20191028T100120Z
LAST-MODIFIED:20191028T100120Z
UID:4197-1579201200-1579206600@www.lustleighvillagehall.co.uk
SUMMARY:L. Soc Committee Meeting
DESCRIPTION:Meeting Room
URL:http://www.lustleighvillagehall.co.uk/event/l-soc-committee-meeting-2/2020-01-16
LOCATION:Meeting Room\, Lustleigh Village Hall\, Lustleigh\, TQ13 9TA\, United Kingdom
GEO:50.6186324;-3.7197012
X-APPLE-STRUCTURED-LOCATION;VALUE=URI;X-ADDRESS=Meeting Room Lustleigh Village Hall Lustleigh TQ13 9TA United Kingdom;X-APPLE-RADIUS=500;X-TITLE=Lustleigh Village Hall:geo:-3.7197012,50.6186324
END:VEVENT
BEGIN:VEVENT
DTSTART;TZID=Europe/London:20200110T130000
DTEND;TZID=Europe/London:20200110T170000
DTSTAMP:20260425T172000
CREATED:20191111T140539Z
LAST-MODIFIED:20191111T174320Z
UID:4219-1578661200-1578675600@www.lustleighvillagehall.co.uk
SUMMARY:WI Meeting
DESCRIPTION:
URL:http://www.lustleighvillagehall.co.uk/event/wi-meeting-2/2020-01-10
LOCATION:Main Hall/Kit
ORGANIZER;CN="Anna Barczak":MAILTO:anna.barczak@icloud.com
END:VEVENT
BEGIN:VEVENT
DTSTART;TZID=Europe/London:20200109T080000
DTEND;TZID=Europe/London:20200109T160000
DTSTAMP:20260425T172000
CREATED:20190722T164247Z
LAST-MODIFIED:20190722T164247Z
UID:3814-1578556800-1578585600@www.lustleighvillagehall.co.uk
SUMMARY:Orchard Preschool
DESCRIPTION:
URL:http://www.lustleighvillagehall.co.uk/event/orchard-preschool-4/2020-01-09
LOCATION:Main Hall/Kit
END:VEVENT
BEGIN:VEVENT
DTSTART;TZID=Europe/London:20200108T090000
DTEND;TZID=Europe/London:20200108T120000
DTSTAMP:20260425T172000
CREATED:20191008T092629Z
LAST-MODIFIED:20191008T092629Z
UID:4118-1578474000-1578484800@www.lustleighvillagehall.co.uk
SUMMARY:Playgroup
DESCRIPTION:
URL:http://www.lustleighvillagehall.co.uk/event/playgroup-12/2020-01-08
LOCATION:Meeting Room\, Lustleigh Village Hall\, Lustleigh\, TQ13 9TA\, United Kingdom
GEO:50.6186324;-3.7197012
X-APPLE-STRUCTURED-LOCATION;VALUE=URI;X-ADDRESS=Meeting Room Lustleigh Village Hall Lustleigh TQ13 9TA United Kingdom;X-APPLE-RADIUS=500;X-TITLE=Lustleigh Village Hall:geo:-3.7197012,50.6186324
END:VEVENT
BEGIN:VEVENT
DTSTART;TZID=Europe/London:20200108T080000
DTEND;TZID=Europe/London:20200108T160000
DTSTAMP:20260425T172000
CREATED:20190722T164117Z
LAST-MODIFIED:20190722T164117Z
UID:3802-1578470400-1578499200@www.lustleighvillagehall.co.uk
SUMMARY:Orchard Preschool
DESCRIPTION:
URL:http://www.lustleighvillagehall.co.uk/event/orchard-preschool-3/2020-01-08
LOCATION:Main Hall/Kit
END:VEVENT
BEGIN:VEVENT
DTSTART;TZID=Europe/London:20190613T190000
DTEND;TZID=Europe/London:20190613T210000
DTSTAMP:20260425T172000
CREATED:20190612T091616Z
LAST-MODIFIED:20200212T152702Z
UID:3631-1560452400-1560459600@www.lustleighvillagehall.co.uk
SUMMARY:Parish Council Meeting
DESCRIPTION:Parish Council Meetings take place every second Thursday in the month\, except in August when\, tired out by their efforts\, which the Council think go mostly unappreciated\, they take a holiday. \nPlanning issues\, blocked gullies\, potholes\, trees\, parking and a lot more are discussed at these meetings\, so if you have a problem\, or are simply otherwise unoccupied on the second Thursday\, then come along. \nThis is your opportunity to barrack your Councillors\, who will be delighted and overjoyed to hear from you. \n  \n 
URL:http://www.lustleighvillagehall.co.uk/event/parish-co-meeting-2/2019-06-13
LOCATION:Meeting Room\, Lustleigh Village Hall\, Lustleigh\, TQ13 9TA\, United Kingdom
ORGANIZER;CN="Lustleigh Parish Council":MAILTO:lustleighparishclerk@hotmail.com
GEO:50.6186324;-3.7197012
X-APPLE-STRUCTURED-LOCATION;VALUE=URI;X-ADDRESS=Meeting Room Lustleigh Village Hall Lustleigh TQ13 9TA United Kingdom;X-APPLE-RADIUS=500;X-TITLE=Lustleigh Village Hall:geo:-3.7197012,50.6186324
END:VEVENT
BEGIN:VEVENT
DTSTART;TZID=Europe/London:20260425T172000
DTEND;TZID=Europe/London:20260425T172000
DTSTAMP:20260425T172000
CREATED:20180104T132508Z
LAST-MODIFIED:20180104T132508Z
UID:1755-1777137600-1777137600@www.lustleighvillagehall.co.uk
SUMMARY:PreSchool 8-4
DESCRIPTION:
URL:http://www.lustleighvillagehall.co.uk/event/preschool-8-4-4
LOCATION:Devon
END:VEVENT
END:VCALENDAR