BEGIN:VCALENDAR
VERSION:2.0
PRODID:-//Lustleigh Village Hall - ECPv6.15.20//NONSGML v1.0//EN
CALSCALE:GREGORIAN
METHOD:PUBLISH
X-WR-CALNAME:Lustleigh Village Hall
X-ORIGINAL-URL:http://www.lustleighvillagehall.co.uk
X-WR-CALDESC:Events for Lustleigh Village Hall
REFRESH-INTERVAL;VALUE=DURATION:PT1H
X-Robots-Tag:noindex
X-PUBLISHED-TTL:PT1H
BEGIN:VTIMEZONE
TZID:Europe/London
BEGIN:DAYLIGHT
TZOFFSETFROM:+0000
TZOFFSETTO:+0100
TZNAME:BST
DTSTART:20190331T010000
END:DAYLIGHT
BEGIN:STANDARD
TZOFFSETFROM:+0100
TZOFFSETTO:+0000
TZNAME:GMT
DTSTART:20191027T010000
END:STANDARD
BEGIN:DAYLIGHT
TZOFFSETFROM:+0000
TZOFFSETTO:+0100
TZNAME:BST
DTSTART:20200329T010000
END:DAYLIGHT
BEGIN:STANDARD
TZOFFSETFROM:+0100
TZOFFSETTO:+0000
TZNAME:GMT
DTSTART:20201025T010000
END:STANDARD
BEGIN:DAYLIGHT
TZOFFSETFROM:+0000
TZOFFSETTO:+0100
TZNAME:BST
DTSTART:20210328T010000
END:DAYLIGHT
BEGIN:STANDARD
TZOFFSETFROM:+0100
TZOFFSETTO:+0000
TZNAME:GMT
DTSTART:20211031T010000
END:STANDARD
BEGIN:DAYLIGHT
TZOFFSETFROM:+0000
TZOFFSETTO:+0100
TZNAME:BST
DTSTART:20220327T010000
END:DAYLIGHT
BEGIN:STANDARD
TZOFFSETFROM:+0100
TZOFFSETTO:+0000
TZNAME:GMT
DTSTART:20221030T010000
END:STANDARD
END:VTIMEZONE
BEGIN:VEVENT
DTSTART;TZID=Europe/London:20210722T193000
DTEND;TZID=Europe/London:20210722T210000
DTSTAMP:20260425T130337
CREATED:20210618T085923Z
LAST-MODIFIED:20210622T193735Z
UID:5261-1626982200-1626987600@www.lustleighvillagehall.co.uk
SUMMARY:Parish Council
DESCRIPTION:Monthly Meeting
URL:http://www.lustleighvillagehall.co.uk/event/parish-council
LOCATION:Meeting Room\, Lustleigh Village Hall\, Lustleigh\, TQ13 9TA\, United Kingdom
ORGANIZER;CN="Lustleigh Parish Council":MAILTO:lustleighparishclerk@hotmail.com
GEO:50.6186324;-3.7197012
X-APPLE-STRUCTURED-LOCATION;VALUE=URI;X-ADDRESS=Meeting Room Lustleigh Village Hall Lustleigh TQ13 9TA United Kingdom;X-APPLE-RADIUS=500;X-TITLE=Lustleigh Village Hall:geo:-3.7197012,50.6186324
END:VEVENT
BEGIN:VEVENT
DTSTART;TZID=Europe/London:20210713T193000
DTEND;TZID=Europe/London:20210713T210000
DTSTAMP:20260425T130338
CREATED:20210626T144532Z
LAST-MODIFIED:20210626T145323Z
UID:5278-1626204600-1626210000@www.lustleighvillagehall.co.uk
SUMMARY:LEAP presents... STARCRAZY by MIRACLE THEATRE
DESCRIPTION:Tuesday July 13th at 7.30 p.m. Lustleigh Orchard. \nCOVID secure event – please bring your own chair. There is a socially distanced seating plan. \nThere are no tickets – we are doing CASH donations into buckets.  A normal ticket would be from £12- 15 pounds \, less for children so please be generous if you can. \nWritten & Directed by Bill Scott with Original Music by Tom Adams. \nOctober 1957: the world lives in fear of nuclear war\, Russia has launched Sputnik 1\, UFOs are cropping up everywhere\, MI5 is on high alert and Stanley is building something in his garden shed. \nHe may live in suburbia but\, in his mind\, Stanley is voyaging through outer space. He hopes to make contact with other life forms. His neighbour\, Gwen\, thinks he should be exploring the unknown much closer to home… \nA cosmic comedy about obsession and the rekindling of love\, hope and possibility… \nThis is not a Village Hall Event\, it is advertised here as part of the promotion on behalf of LEAP.
URL:http://www.lustleighvillagehall.co.uk/event/starcrazy
LOCATION:The Village Orchard
CATEGORIES:Entertainment,LEAP,Public Events
ATTACH;FMTTYPE=image/jpeg:http://www.lustleighvillagehall.co.uk/wp-content/uploads/2021/06/Starcrazy-01-scaled.jpg
ORGANIZER;CN="LEAP":MAILTO:leap.lustleigh@gmail.com
END:VEVENT
BEGIN:VEVENT
DTSTART;TZID=Europe/London:20210710T130000
DTEND;TZID=Europe/London:20210710T170000
DTSTAMP:20260425T130338
CREATED:20210521T131242Z
LAST-MODIFIED:20210521T131242Z
UID:5233-1625922000-1625936400@www.lustleighvillagehall.co.uk
SUMMARY:Divertimento
DESCRIPTION:Concert
URL:http://www.lustleighvillagehall.co.uk/event/divertimento-6
LOCATION:Main Hall/Kit
END:VEVENT
BEGIN:VEVENT
DTSTART;TZID=Europe/London:20210703T080000
DTEND;TZID=Europe/London:20210703T233000
DTSTAMP:20260425T130338
CREATED:20210505T104720Z
LAST-MODIFIED:20210505T104720Z
UID:4998-1625299200-1625355000@www.lustleighvillagehall.co.uk
SUMMARY:Drama Club
DESCRIPTION:
URL:http://www.lustleighvillagehall.co.uk/event/drama-club-2
LOCATION:Entire Hall
ORGANIZER;CN="Alexa Mason":MAILTO:alexa.uplands@gmail.com
END:VEVENT
BEGIN:VEVENT
DTSTART;TZID=Europe/London:20210702T193000
DTEND;TZID=Europe/London:20210702T233000
DTSTAMP:20260425T130338
CREATED:20210505T104559Z
LAST-MODIFIED:20210615T100127Z
UID:4996-1625254200-1625268600@www.lustleighvillagehall.co.uk
SUMMARY:LUSTLEIGH DRAMA GROUP PRESENTS  A ‘live radio’ performance of  ‘THE HOUND OF THE BASKERVILLES’
DESCRIPTION:LUSTLEIGH DRAMA GROUP PRESENTS \nA ‘live radio’ performance of \n‘THE HOUND OF THE BASKERVILLES’ \nBy Sir Arthur Conan Doyle \nIn the Village Hall Studio \nFRIDAY 2ND AND SATURDAY 3RD of JULY at 7.30 pm \nCome and enjoy the classic days of live drama on ‘the wireless’\, when accents were truly BBC and sound effects inventive! \nLustleigh Drama Group are delighted to once again be able to produce home-grown talent to amuse our local community. \nThis atmospheric tale features Holmes and Watson battling supernatural happenings and dastardly schemes against a backdrop of Dartmoor at its most forbidding\, and is sure to both thrill and amuse. \nTICKETS are £7 for adults and £4 for under 16s. Tickets will be available from the Dairy – please look for a poster outside the shop. If you buy from the shop\, please leave your name and phone number in the notebook provided. Information and telephone bookings from Brian Wilmot 01647 277245. \nThere will not be a bar available (the show lasts approximately an hour without interval\,) but please feel free to bring your own refreshments. There will be some tables for two to six people. \nPLEASE NOTE\, BECAUSE OF CURRENT COVID MEASURES NUMBERS WILL BE RESTRICTED AND ADVANCE BOOKING IS ESSENTIAL. PLEASE BRING MASKS. Front-of-House Staff will assist you with social distancing. \nAlexa Mason\, for L.D.G.
URL:http://www.lustleighvillagehall.co.uk/event/drama-club/2021-07-02
LOCATION:Meeting Room\, Lustleigh Village Hall\, Lustleigh\, Devon\, TQ13 9TA\, United Kingdom
CATEGORIES:Lustleigh Drama Group,Public Events
ATTACH;FMTTYPE=image/jpeg:http://www.lustleighvillagehall.co.uk/wp-content/uploads/2021/05/HoundBaskervilles59.jpg
ORGANIZER;CN="Alexa Mason":MAILTO:alexa.uplands@gmail.com
GEO:50.6186324;-3.7197012
X-APPLE-STRUCTURED-LOCATION;VALUE=URI;X-ADDRESS=Meeting Room Lustleigh Village Hall Lustleigh Devon TQ13 9TA United Kingdom;X-APPLE-RADIUS=500;X-TITLE=Lustleigh Village Hall:geo:-3.7197012,50.6186324
END:VEVENT
BEGIN:VEVENT
DTSTART;TZID=Europe/London:20210628T080000
DTEND;TZID=Europe/London:20210628T160000
DTSTAMP:20260425T130338
CREATED:20210505T110149Z
LAST-MODIFIED:20210505T110149Z
UID:5019-1624867200-1624896000@www.lustleighvillagehall.co.uk
SUMMARY:Preschool
DESCRIPTION:
URL:http://www.lustleighvillagehall.co.uk/event/preschool-24/2021-06-28
LOCATION:Entire Hall
END:VEVENT
BEGIN:VEVENT
DTSTART;TZID=Europe/London:20210627T190000
DTEND;TZID=Europe/London:20210627T233000
DTSTAMP:20260425T130338
CREATED:20210505T104948Z
LAST-MODIFIED:20210505T104948Z
UID:5000-1624820400-1624836600@www.lustleighvillagehall.co.uk
SUMMARY:Drama Club Rehearsal
DESCRIPTION:
URL:http://www.lustleighvillagehall.co.uk/event/drama-club-rehearsal/2021-06-27
LOCATION:Meeting Room\, Lustleigh Village Hall\, Lustleigh\, Devon\, TQ13 9TA\, United Kingdom
ORGANIZER;CN="Alexa Mason":MAILTO:alexa.uplands@gmail.com
GEO:50.6186324;-3.7197012
X-APPLE-STRUCTURED-LOCATION;VALUE=URI;X-ADDRESS=Meeting Room Lustleigh Village Hall Lustleigh Devon TQ13 9TA United Kingdom;X-APPLE-RADIUS=500;X-TITLE=Lustleigh Village Hall:geo:-3.7197012,50.6186324
END:VEVENT
BEGIN:VEVENT
DTSTART;TZID=Europe/London:20210622T080000
DTEND;TZID=Europe/London:20210622T160000
DTSTAMP:20260425T130338
CREATED:20210505T110921Z
LAST-MODIFIED:20210505T110921Z
UID:5036-1624348800-1624377600@www.lustleighvillagehall.co.uk
SUMMARY:Preschool
DESCRIPTION:
URL:http://www.lustleighvillagehall.co.uk/event/preschool-25/2021-06-22
LOCATION:Entire Hall
END:VEVENT
BEGIN:VEVENT
DTSTART;TZID=Europe/London:20210529T090000
DTEND;TZID=Europe/London:20210529T170000
DTSTAMP:20260425T130338
CREATED:20210524T160608Z
LAST-MODIFIED:20210524T160608Z
UID:5236-1622278800-1622307600@www.lustleighvillagehall.co.uk
SUMMARY:Jo Harman
DESCRIPTION:Kitchen only
URL:http://www.lustleighvillagehall.co.uk/event/jo-harman
LOCATION:Kitchen
END:VEVENT
BEGIN:VEVENT
DTSTART;TZID=Europe/London:20210526T190000
DTEND;TZID=Europe/London:20210526T213000
DTSTAMP:20260425T130338
CREATED:20210420T085614Z
LAST-MODIFIED:20210420T085614Z
UID:4966-1622055600-1622064600@www.lustleighvillagehall.co.uk
SUMMARY:The Lustleigh Society presents - The River Bovey from source to the Teign Speaker – John Risdon
DESCRIPTION:The Lustleigh Society \nWednesday 26th May – 7.15 for 7.30pm. \nThe River Bovey from source to the Teign. \nSpeaker – John Risdon. \nThis talk is a journey of celebration across one of Devon’s most beautiful and fascinating area’s down the Bovey. \nJohn’s talk will be enhanced by a variety of photographs that he has taken himself while walking along this fascinating journey. \nOur meetings are held at Lustleigh Village Hall. \nPlease come and join us for a sociable glass of wine before the meeting. \nNon-members welcome. \nPlease contact Lynn on 01647 277528 if you would like any other information. \nEmail-jackchi4@gmail.com \nAs Covid restrictions will still be in place it will restrict the number of people that will be able to attend this meeting “the current number being 60”. \nIn order not to disappoint\, we have on this occasion decided that it would be justified in asking people to book a seat. We are trying to avoid members travelling over\, only to find that the quota for the hall has been filled and we would have to turn members away. This is something that we want to avoid at any cost\, as our membership is greatly valued. \nTherefore\, we would ask that you contact Lynn using the above email or landline to reserve your seats. \n 
URL:http://www.lustleighvillagehall.co.uk/event/the-lustleigh-society-presents-the-river-bovey-from-source-to-the-teign-speaker-john-risdon
LOCATION:Meeting Room\, Lustleigh Village Hall\, Lustleigh\, Devon\, TQ13 9TA\, United Kingdom
CATEGORIES:Lustleigh Society,Public Events,Talks and lectures
ATTACH;FMTTYPE=image/jpeg:http://www.lustleighvillagehall.co.uk/wp-content/uploads/2021/04/John-Risdon2-scaled.jpg
ORGANIZER;CN="Lustleigh Society":MAILTO:lustleighsec@gmail.com
GEO:50.6186324;-3.7197012
X-APPLE-STRUCTURED-LOCATION;VALUE=URI;X-ADDRESS=Meeting Room Lustleigh Village Hall Lustleigh Devon TQ13 9TA United Kingdom;X-APPLE-RADIUS=500;X-TITLE=Lustleigh Village Hall:geo:-3.7197012,50.6186324
END:VEVENT
BEGIN:VEVENT
DTSTART;TZID=Europe/London:20210506T070000
DTEND;TZID=Europe/London:20210506T220000
DTSTAMP:20260425T130338
CREATED:20210329T105750Z
LAST-MODIFIED:20210329T110312Z
UID:4961-1620284400-1620338400@www.lustleighvillagehall.co.uk
SUMMARY:May 6 Elections at Lustleigh Village Hall
DESCRIPTION:The Village Hall will be used as a Polling Station for the Local Elections on 6th May 2021\, under the permitted activities guidance. \nTeignbridge advise that they will be providing all their staff with face masks\, visors and a Perspex screen to sit behind at the desks.  They will supply hand sanitizer for use on the way in and out of the hall and a number of masks for those electors who forget to bring one.  There will be some additional signage and 2 metre distancing will be enforced. \nA one way system will be in use with entry through the Main Entrance and exit via the Meeting Room doors to the Orchard. They intend to use both doors and implement a one way system for voters and any touchpoints will be wiped at least hourly. \nThe Hall Toilets will be closed for Public Use. \nPersons accessing the Hall for Voting Purposes are reminded that this activity remains the responsibility of Teignbridge District Council and any queries should be addressed to the Electoral Services Manager. \n  \n 
URL:http://www.lustleighvillagehall.co.uk/event/may-6-elections-at-the-lustleigh-village-hall
LOCATION:Meeting Room\, Lustleigh Village Hall\, Lustleigh\, TQ13 9TA\, United Kingdom
CATEGORIES:Public Events
ATTACH;FMTTYPE=image/jpeg:http://www.lustleighvillagehall.co.uk/wp-content/uploads/2021/03/Polling.jpg
ORGANIZER;CN="TDC":MAILTO:electoralservices@teignbridge.gov.uk
GEO:50.6186324;-3.7197012
X-APPLE-STRUCTURED-LOCATION;VALUE=URI;X-ADDRESS=Meeting Room Lustleigh Village Hall Lustleigh TQ13 9TA United Kingdom;X-APPLE-RADIUS=500;X-TITLE=Lustleigh Village Hall:geo:-3.7197012,50.6186324
END:VEVENT
BEGIN:VEVENT
DTSTART;TZID=Europe/London:20210503T080000
DTEND;TZID=Europe/London:20210524T160000
DTSTAMP:20260425T130338
CREATED:20210505T105535Z
LAST-MODIFIED:20210505T105535Z
UID:5003-1620028800-1621872000@www.lustleighvillagehall.co.uk
SUMMARY:Preschool
DESCRIPTION:
URL:http://www.lustleighvillagehall.co.uk/event/preschool-23/2021-05-03
LOCATION:Entire Hall
END:VEVENT
BEGIN:VEVENT
DTSTART;TZID=Europe/London:20210426T080000
DTEND;TZID=Europe/London:20210621T170000
DTSTAMP:20260425T130338
CREATED:20210429T121048Z
LAST-MODIFIED:20210928T131011Z
UID:4986-1619424000-1624294800@www.lustleighvillagehall.co.uk
SUMMARY:Covid-19: Updated Information from Devon Communities Together - 26 April 2021
DESCRIPTION:Additional information – Clarification on QR codes and signing in. \nThe key point to note is that all halls need to display a QR poster. They could be subject to a fine if they do not. It is the mobile phone signal which is most likely to determine whether people can use it\, rather than Wi-Fi availability. If it is not useable (owing to lack of mobile signal) that is beyond the control of the hall management (trustees\, Council etc). \nThe second key point is to delegate via the hiring agreement the requirement for the activity organiser to ask for people’s contact details. The government guidance for Community Facilities still indicates that the contact details for the lead member of a group of up to 6 or 2 households will suffice\, and in practice this is unlikely to pose a risk for certain activities (e.g.\, where people are known to the organiser or readily contacted). However\, other more general Guidance says contact details are required for each person for activities in the leisure or hospitality sector. The aim is to avoid delay in NHS making contact\, which is why using the App is preferable. Clause SC9 of the Special Hire Conditions in v10 of the Information Sheet endeavours to address the ambiguities in a way which both small hiring organisations and hall committees can hopefully feel comfortable with. \nIt’s up to the activity organiser how they collect contact details (i.e. advance booking\, on the door\, iPad or notepad\, but they need to keep them secure\, and for 21 days). \nIt is up to people whether they use the poster but if they don’t or can’t\, the activity organiser must ask for details\, if not collected in advance and people are willing to give them. Details are only required for those over the age of 16. \nFor a hospitality setting (Social Club\, café\, bar) each individual has to give their name on arrival or booking\, not just the leader of a group (which was the case before)\, and admission has to be refused if they do not. \nDevon Communities Together.
URL:http://www.lustleighvillagehall.co.uk/event/covid-19-updated-information-from-devon-communities-together-26-april-2021
LOCATION:Meeting Room\, Lustleigh Village Hall\, Lustleigh\, Devon\, TQ13 9TA\, United Kingdom
CATEGORIES:Public Events
ATTACH;FMTTYPE=image/jpeg:http://www.lustleighvillagehall.co.uk/wp-content/uploads/2021/04/DCT.jpg
GEO:50.6186324;-3.7197012
X-APPLE-STRUCTURED-LOCATION;VALUE=URI;X-ADDRESS=Meeting Room Lustleigh Village Hall Lustleigh Devon TQ13 9TA United Kingdom;X-APPLE-RADIUS=500;X-TITLE=Lustleigh Village Hall:geo:-3.7197012,50.6186324
END:VEVENT
BEGIN:VEVENT
DTSTART;TZID=Europe/London:20210224T080000
DTEND;TZID=Europe/London:20210401T170000
DTSTAMP:20260425T130338
CREATED:20210224T123539Z
LAST-MODIFIED:20210329T101701Z
UID:4933-1614153600-1617296400@www.lustleighvillagehall.co.uk
SUMMARY:Floor Done!
DESCRIPTION:Thanks to Colin\, the Main Hall Floor has been cleaned\, re-coated and the Badminton Court repainted. \n    \nGreat Job Colin\, with many thanks from the Committee. \nOpen this Event to view more photos. \n 
URL:http://www.lustleighvillagehall.co.uk/event/floor-done
LOCATION:Meeting Room\, Lustleigh Village Hall\, Lustleigh\, Devon\, TQ13 9TA\, United Kingdom
CATEGORIES:Public Events
ATTACH;FMTTYPE=image/jpeg:http://www.lustleighvillagehall.co.uk/wp-content/uploads/2021/02/20210220_104136-rotated.jpg
GEO:50.6186324;-3.7197012
X-APPLE-STRUCTURED-LOCATION;VALUE=URI;X-ADDRESS=Meeting Room Lustleigh Village Hall Lustleigh Devon TQ13 9TA United Kingdom;X-APPLE-RADIUS=500;X-TITLE=Lustleigh Village Hall:geo:-3.7197012,50.6186324
END:VEVENT
BEGIN:VEVENT
DTSTART;TZID=Europe/London:20200909T094500
DTEND;TZID=Europe/London:20200909T120000
DTSTAMP:20260425T130338
CREATED:20200226T151818Z
LAST-MODIFIED:20200226T151818Z
UID:4788-1599644700-1599652800@www.lustleighvillagehall.co.uk
SUMMARY:Playgroup
DESCRIPTION:Mothers/Carers/babies
URL:http://www.lustleighvillagehall.co.uk/event/playgroup-10/2020-09-09
LOCATION:Meeting Room\, Lustleigh Village Hall\, Lustleigh\, TQ13 9TA\, United Kingdom
GEO:50.6186324;-3.7197012
X-APPLE-STRUCTURED-LOCATION;VALUE=URI;X-ADDRESS=Meeting Room Lustleigh Village Hall Lustleigh TQ13 9TA United Kingdom;X-APPLE-RADIUS=500;X-TITLE=Lustleigh Village Hall:geo:-3.7197012,50.6186324
END:VEVENT
BEGIN:VEVENT
DTSTART;TZID=Europe/London:20200909T080000
DTEND;TZID=Europe/London:20200909T160000
DTSTAMP:20260425T130338
CREATED:20200226T151501Z
LAST-MODIFIED:20200226T151501Z
UID:4759-1599638400-1599667200@www.lustleighvillagehall.co.uk
SUMMARY:Preschool
DESCRIPTION:
URL:http://www.lustleighvillagehall.co.uk/event/preschool-22/2020-09-09
LOCATION:Entire Hall
END:VEVENT
BEGIN:VEVENT
DTSTART;TZID=Europe/London:20200908T080000
DTEND;TZID=Europe/London:20200908T170000
DTSTAMP:20260425T130338
CREATED:20200207T114316Z
LAST-MODIFIED:20200207T114316Z
UID:4638-1599552000-1599584400@www.lustleighvillagehall.co.uk
SUMMARY:Preschool
DESCRIPTION:
URL:http://www.lustleighvillagehall.co.uk/event/preschool-20/2020-09-08
LOCATION:Main Hall/Kit
END:VEVENT
BEGIN:VEVENT
DTSTART;TZID=Europe/London:20200907T080000
DTEND;TZID=Europe/London:20200907T170000
DTSTAMP:20260425T130338
CREATED:20200207T113244Z
LAST-MODIFIED:20200207T113244Z
UID:4608-1599465600-1599498000@www.lustleighvillagehall.co.uk
SUMMARY:Preschool
DESCRIPTION:
URL:http://www.lustleighvillagehall.co.uk/event/preschool-21/2020-09-07
LOCATION:Main Hall/Kit
END:VEVENT
BEGIN:VEVENT
DTSTART;TZID=Europe/London:20200728T080000
DTEND;TZID=Europe/London:20200728T160000
DTSTAMP:20260425T130339
CREATED:20200226T150856Z
LAST-MODIFIED:20200226T150856Z
UID:4740-1595923200-1595952000@www.lustleighvillagehall.co.uk
SUMMARY:Holiday Club
DESCRIPTION:Preschool
URL:http://www.lustleighvillagehall.co.uk/event/holiday-club-2/2020-07-28
LOCATION:Main Hall/Kit
END:VEVENT
BEGIN:VEVENT
DTSTART;TZID=Europe/London:20200423T080000
DTEND;TZID=Europe/London:20200423T170000
DTSTAMP:20260425T130339
CREATED:20190911T161804Z
LAST-MODIFIED:20190911T161804Z
UID:3959-1587628800-1587661200@www.lustleighvillagehall.co.uk
SUMMARY:Preschool
DESCRIPTION:
URL:http://www.lustleighvillagehall.co.uk/event/preschool-19/2020-04-23
LOCATION:Entire Hall
END:VEVENT
BEGIN:VEVENT
DTSTART;TZID=Europe/London:20200422T190000
DTEND;TZID=Europe/London:20200422T230000
DTSTAMP:20260425T130339
CREATED:20190911T160134Z
LAST-MODIFIED:20200202T123816Z
UID:3901-1587582000-1587596400@www.lustleighvillagehall.co.uk
SUMMARY:Lustleigh Soc
DESCRIPTION:Monthly Meeting
URL:http://www.lustleighvillagehall.co.uk/event/lustleigh-soc-2-2020-04-22/2020-04-22
LOCATION:Main Hall/Kit
ORGANIZER;CN="Peter Mason":MAILTO:peter@moormasons.plus.com
END:VEVENT
BEGIN:VEVENT
DTSTART;TZID=Europe/London:20200422T080000
DTEND;TZID=Europe/London:20200422T170000
DTSTAMP:20260425T130339
CREATED:20191008T092911Z
LAST-MODIFIED:20191008T095154Z
UID:4132-1587542400-1587574800@www.lustleighvillagehall.co.uk
SUMMARY:Playgroup
DESCRIPTION:
URL:http://www.lustleighvillagehall.co.uk/event/playgroup-13-2020-04-22/2020-04-22
LOCATION:Meeting Room\, Lustleigh Village Hall\, Lustleigh\, TQ13 9TA\, United Kingdom
GEO:50.6186324;-3.7197012
X-APPLE-STRUCTURED-LOCATION;VALUE=URI;X-ADDRESS=Meeting Room Lustleigh Village Hall Lustleigh TQ13 9TA United Kingdom;X-APPLE-RADIUS=500;X-TITLE=Lustleigh Village Hall:geo:-3.7197012,50.6186324
END:VEVENT
BEGIN:VEVENT
DTSTART;TZID=Europe/London:20200422T080000
DTEND;TZID=Europe/London:20200422T170000
DTSTAMP:20260425T130339
CREATED:20190911T161602Z
LAST-MODIFIED:20190911T161602Z
UID:3945-1587542400-1587574800@www.lustleighvillagehall.co.uk
SUMMARY:Preschool
DESCRIPTION:
URL:http://www.lustleighvillagehall.co.uk/event/preschool-18/2020-04-22
LOCATION:Entire Hall
END:VEVENT
BEGIN:VEVENT
DTSTART;TZID=Europe/London:20200421T080000
DTEND;TZID=Europe/London:20200421T170000
DTSTAMP:20260425T130339
CREATED:20190911T161211Z
LAST-MODIFIED:20190911T161211Z
UID:3917-1587456000-1587488400@www.lustleighvillagehall.co.uk
SUMMARY:Preschool
DESCRIPTION:
URL:http://www.lustleighvillagehall.co.uk/event/preschool-17/2020-04-21
LOCATION:Main Hall/Kit
END:VEVENT
BEGIN:VEVENT
DTSTART;TZID=Europe/London:20200420T080000
DTEND;TZID=Europe/London:20200420T170000
DTSTAMP:20260425T130339
CREATED:20190911T160917Z
LAST-MODIFIED:20190911T160917Z
UID:3903-1587369600-1587402000@www.lustleighvillagehall.co.uk
SUMMARY:Preschool if wet
DESCRIPTION:
URL:http://www.lustleighvillagehall.co.uk/event/preschool-if-wet-6/2020-04-20
LOCATION:Entire Hall
END:VEVENT
BEGIN:VEVENT
DTSTART;TZID=Europe/London:20200331T080000
DTEND;TZID=Europe/London:20200331T160000
DTSTAMP:20260425T130339
CREATED:20200226T144942Z
LAST-MODIFIED:20200226T144942Z
UID:4733-1585641600-1585670400@www.lustleighvillagehall.co.uk
SUMMARY:Holiday Club
DESCRIPTION:Preschool
URL:http://www.lustleighvillagehall.co.uk/event/holiday-club/2020-03-31
LOCATION:Main Hall/Kit
END:VEVENT
BEGIN:VEVENT
DTSTART;TZID=Europe/London:20200324T190000
DTEND;TZID=Europe/London:20200324T210000
DTSTAMP:20260425T130339
CREATED:20200105T134008Z
LAST-MODIFIED:20200319T101458Z
UID:4416-1585076400-1585083600@www.lustleighvillagehall.co.uk
SUMMARY:Rifle Club - CANCELLED
DESCRIPTION:CANCELLED\nThe Lustleigh Rifle Club\, or to give it the full name: ‘The Lustleigh (Home Guard 1944) Rifle Club’\, traces its origins back to 1944 and continues unbroken to this day. \nPractices are every Tuesday at 7:00pm in the Winter Months \nNew Members are always welcome.
URL:http://www.lustleighvillagehall.co.uk/event/rifle-club-8-2020-03-24/2020-03-24
LOCATION:Meeting Room\, Lustleigh Village Hall\, Lustleigh\, Devon\, TQ13 9TA\, United Kingdom
GEO:50.6186324;-3.7197012
X-APPLE-STRUCTURED-LOCATION;VALUE=URI;X-ADDRESS=Meeting Room Lustleigh Village Hall Lustleigh Devon TQ13 9TA United Kingdom;X-APPLE-RADIUS=500;X-TITLE=Lustleigh Village Hall:geo:-3.7197012,50.6186324
END:VEVENT
BEGIN:VEVENT
DTSTART;TZID=Europe/London:20200323T183000
DTEND;TZID=Europe/London:20200323T200000
DTSTAMP:20260425T130339
CREATED:20200203T104736Z
LAST-MODIFIED:20200318T115726Z
UID:4586-1584988200-1584993600@www.lustleighvillagehall.co.uk
SUMMARY:Yoga with Leah - CANCELLED UNTIL FURTHER NOTICE
DESCRIPTION:Yoga with Leah \n\nEvery Monday at 6:00pm\nNew Members are always welcome.
URL:http://www.lustleighvillagehall.co.uk/event/yoga-with-leah-7-2020-03-23/2020-03-23
LOCATION:Meeting Room\, Lustleigh Village Hall\, Lustleigh\, Devon\, TQ13 9TA\, United Kingdom
ORGANIZER;CN="Leah Edwards":MAILTO:contactleahedwards@btinternet.com
GEO:50.6186324;-3.7197012
X-APPLE-STRUCTURED-LOCATION;VALUE=URI;X-ADDRESS=Meeting Room Lustleigh Village Hall Lustleigh Devon TQ13 9TA United Kingdom;X-APPLE-RADIUS=500;X-TITLE=Lustleigh Village Hall:geo:-3.7197012,50.6186324
END:VEVENT
BEGIN:VEVENT
DTSTART;TZID=Europe/London:20200319T170000
DTEND;TZID=Europe/London:20200319T190000
DTSTAMP:20260425T130339
CREATED:20200106T180233Z
LAST-MODIFIED:20200317T113424Z
UID:4432-1584637200-1584644400@www.lustleighvillagehall.co.uk
SUMMARY:Badminton/Table Tennis - CANCELLED UNTIL FURTHER NOTICE
DESCRIPTION:A weekly event that takes place every Thursday at 5pm. \nNew players are always welcome.
URL:http://www.lustleighvillagehall.co.uk/event/badminton-table-tennis-2020-03-19/2020-03-19
LOCATION:Main Hall/MR
ORGANIZER;CN="Martin Strudley":MAILTO:martinstrudley@gmail.com
END:VEVENT
BEGIN:VEVENT
DTSTART;TZID=Europe/London:20200316T193000
DTEND;TZID=Europe/London:20200316T213000
DTSTAMP:20260425T130339
CREATED:20191119T104525Z
LAST-MODIFIED:20200315T134033Z
UID:4253-1584387000-1584394200@www.lustleighvillagehall.co.uk
SUMMARY:Lustleigh Choir - Cancelled until further notice
DESCRIPTION:The Lustleigh Choir practices every Monday at 7:30pm. \nNew Members are always welcome.
URL:http://www.lustleighvillagehall.co.uk/event/choir-6-2020-03-16/2020-03-16
LOCATION:Meeting Room\, Lustleigh Village Hall\, Lustleigh\, TQ13 9TA\, United Kingdom
GEO:50.6186324;-3.7197012
X-APPLE-STRUCTURED-LOCATION;VALUE=URI;X-ADDRESS=Meeting Room Lustleigh Village Hall Lustleigh TQ13 9TA United Kingdom;X-APPLE-RADIUS=500;X-TITLE=Lustleigh Village Hall:geo:-3.7197012,50.6186324
END:VEVENT
END:VCALENDAR