BEGIN:VCALENDAR
VERSION:2.0
PRODID:-//Lustleigh Village Hall - ECPv6.15.20//NONSGML v1.0//EN
CALSCALE:GREGORIAN
METHOD:PUBLISH
X-WR-CALNAME:Lustleigh Village Hall
X-ORIGINAL-URL:http://www.lustleighvillagehall.co.uk
X-WR-CALDESC:Events for Lustleigh Village Hall
REFRESH-INTERVAL;VALUE=DURATION:PT1H
X-Robots-Tag:noindex
X-PUBLISHED-TTL:PT1H
BEGIN:VTIMEZONE
TZID:Europe/London
BEGIN:DAYLIGHT
TZOFFSETFROM:+0000
TZOFFSETTO:+0100
TZNAME:BST
DTSTART:20210328T010000
END:DAYLIGHT
BEGIN:STANDARD
TZOFFSETFROM:+0100
TZOFFSETTO:+0000
TZNAME:GMT
DTSTART:20211031T010000
END:STANDARD
BEGIN:DAYLIGHT
TZOFFSETFROM:+0000
TZOFFSETTO:+0100
TZNAME:BST
DTSTART:20220327T010000
END:DAYLIGHT
BEGIN:STANDARD
TZOFFSETFROM:+0100
TZOFFSETTO:+0000
TZNAME:GMT
DTSTART:20221030T010000
END:STANDARD
BEGIN:DAYLIGHT
TZOFFSETFROM:+0000
TZOFFSETTO:+0100
TZNAME:BST
DTSTART:20230326T010000
END:DAYLIGHT
BEGIN:STANDARD
TZOFFSETFROM:+0100
TZOFFSETTO:+0000
TZNAME:GMT
DTSTART:20231029T010000
END:STANDARD
END:VTIMEZONE
BEGIN:VEVENT
DTSTART;TZID=Europe/London:20220927T193000
DTEND;TZID=Europe/London:20220927T213000
DTSTAMP:20260424T222557
CREATED:20220107T134553Z
LAST-MODIFIED:20220914T122244Z
UID:5710-1664307000-1664314200@www.lustleighvillagehall.co.uk
SUMMARY:Parish Council Meeting
DESCRIPTION:Parish Council Meetings take place every second Thursday in the month\, except in August when\, tired out by their efforts (which the Council think go mostly unappreciated) they take a holiday. Sheep in the Orchard\, planning issues\, blocked gullies\, potholes\, trees\, parking and a lot more are discussed at these meetings\, so if you have a problem\, or are simply otherwise unoccupied on the second Thursday\, then come along. This is your opportunity to barrack your Councillors\, who will be delighted and overjoyed to hear from you.
URL:http://www.lustleighvillagehall.co.uk/event/parish-council-meeting-7
LOCATION:Meeting Room\, Lustleigh Village Hall\, Lustleigh\, TQ13 9TA\, United Kingdom
CATEGORIES:Public Events
ATTACH;FMTTYPE=image/jpeg:http://www.lustleighvillagehall.co.uk/wp-content/uploads/2021/06/parish-council-meeting.jpg
ORGANIZER;CN="Lustleigh Parish Council":MAILTO:lustleighparishclerk@hotmail.com
GEO:50.6186324;-3.7197012
X-APPLE-STRUCTURED-LOCATION;VALUE=URI;X-ADDRESS=Meeting Room Lustleigh Village Hall Lustleigh TQ13 9TA United Kingdom;X-APPLE-RADIUS=500;X-TITLE=Lustleigh Village Hall:geo:-3.7197012,50.6186324
END:VEVENT
BEGIN:VEVENT
DTSTART;TZID=Europe/London:20220926T193000
DTEND;TZID=Europe/London:20220926T213000
DTSTAMP:20260424T222557
CREATED:20220911T083117Z
LAST-MODIFIED:20220911T083117Z
UID:6575-1664220600-1664227800@www.lustleighvillagehall.co.uk
SUMMARY:Mon Wells/MR
DESCRIPTION:
URL:http://www.lustleighvillagehall.co.uk/event/mon-wells-mr
LOCATION:Meeting Room/Kitchen
END:VEVENT
BEGIN:VEVENT
DTSTART;TZID=Europe/London:20220925T190000
DTEND;TZID=Europe/London:20220925T223000
DTSTAMP:20260424T222557
CREATED:20220710T182626Z
LAST-MODIFIED:20220914T190420Z
UID:6484-1664132400-1664145000@www.lustleighvillagehall.co.uk
SUMMARY:Harvest Festival - Sunday 25th September
DESCRIPTION: Harvest Festival 18th September \nHarvest Festival is on Sunday 25th September at 6.00pm followed by a Harvest Supper in the Village Hall at 7.00pm\, all are very welcome. We are very grateful to Dean and Shirley as tickets will be on sale in the Dairy at the end of August and there will be a two- course meal including wine for £9.00. \nMichael Hughes (tel 277470) and Jane Riley (tel 277182) \nChurchwardens
URL:http://www.lustleighvillagehall.co.uk/event/harvest-supper
LOCATION:Main Hall/Kit
CATEGORIES:Dining,Public Events
ATTACH;FMTTYPE=image/png:http://www.lustleighvillagehall.co.uk/wp-content/uploads/2022/07/Harvest-1.png
END:VEVENT
BEGIN:VEVENT
DTSTART;TZID=Europe/London:20220923T130000
DTEND;TZID=Europe/London:20220923T170000
DTSTAMP:20260424T222557
CREATED:20220914T175027Z
LAST-MODIFIED:20220914T175027Z
UID:6636-1663938000-1663952400@www.lustleighvillagehall.co.uk
SUMMARY:Carole Manniex
DESCRIPTION:Dance Practice
URL:http://www.lustleighvillagehall.co.uk/event/carole-manniex
LOCATION:Meeting Room\, Lustleigh Village Hall\, Lustleigh\, Devon\, TQ13 9TA\, United Kingdom
GEO:50.6186324;-3.7197012
X-APPLE-STRUCTURED-LOCATION;VALUE=URI;X-ADDRESS=Meeting Room Lustleigh Village Hall Lustleigh Devon TQ13 9TA United Kingdom;X-APPLE-RADIUS=500;X-TITLE=Lustleigh Village Hall:geo:-3.7197012,50.6186324
END:VEVENT
BEGIN:VEVENT
DTSTART;TZID=Europe/London:20220922T170000
DTEND;TZID=Europe/London:20220922T200000
DTSTAMP:20260424T222557
CREATED:20211130T160522Z
LAST-MODIFIED:20220914T175204Z
UID:6552-1663866000-1663876800@www.lustleighvillagehall.co.uk
SUMMARY:Badminton/Table Tennis
DESCRIPTION:Taking place every Thursday at 5pm in the Village Hall.\nNew players are always welcome. Contact Martin Strudley on 277735.
URL:http://www.lustleighvillagehall.co.uk/event/badminton-table-tennis-2-2022-09-22/2022-09-22
LOCATION:Meeting Room\, Lustleigh Village Hall\, Lustleigh\, Devon\, TQ13 9TA\, United Kingdom
CATEGORIES:Public Events
ATTACH;FMTTYPE=image/jpeg:http://www.lustleighvillagehall.co.uk/wp-content/uploads/2021/11/SportsDevelopment_EventImages_TableTennisBadminton_900x567.jpg
ORGANIZER;CN="Martin Strudley":MAILTO:martinstrudley@gmail.com
GEO:50.6186324;-3.7197012
X-APPLE-STRUCTURED-LOCATION;VALUE=URI;X-ADDRESS=Meeting Room Lustleigh Village Hall Lustleigh Devon TQ13 9TA United Kingdom;X-APPLE-RADIUS=500;X-TITLE=Lustleigh Village Hall:geo:-3.7197012,50.6186324
END:VEVENT
BEGIN:VEVENT
DTSTART;TZID=Europe/London:20220913T190000
DTEND;TZID=Europe/London:20220913T220000
DTSTAMP:20260424T222557
CREATED:20220110T142609Z
LAST-MODIFIED:20220428T103724Z
UID:5795-1663095600-1663106400@www.lustleighvillagehall.co.uk
SUMMARY:Lustleigh Rifle Club
DESCRIPTION:The Lustleigh Rifle Club\, or to give it the full name: ‘The Lustleigh (Home Guard 1944) Rifle Club’\, traces its origins back to 1944 and continues unbroken to this day.\nPractices are every Tuesday at 7:00pm in the Winter Months at the Village Hall.\nNew Members are always welcome. Contact Len Harvey on 277572.
URL:http://www.lustleighvillagehall.co.uk/event/rifle-club-11/2022-09-13
LOCATION:Meeting Room\, Lustleigh Village Hall\, Lustleigh\, Devon\, TQ13 9TA\, United Kingdom
CATEGORIES:Public Events
ATTACH;FMTTYPE=image/jpeg:http://www.lustleighvillagehall.co.uk/wp-content/uploads/2021/09/LHGRC.jpg
GEO:50.6186324;-3.7197012
X-APPLE-STRUCTURED-LOCATION;VALUE=URI;X-ADDRESS=Meeting Room Lustleigh Village Hall Lustleigh Devon TQ13 9TA United Kingdom;X-APPLE-RADIUS=500;X-TITLE=Lustleigh Village Hall:geo:-3.7197012,50.6186324
END:VEVENT
BEGIN:VEVENT
DTSTART;TZID=Europe/London:20220907T190000
DTEND;TZID=Europe/London:20220907T220000
DTSTAMP:20260424T222557
CREATED:20220705T082121Z
LAST-MODIFIED:20220705T082121Z
UID:6466-1662577200-1662588000@www.lustleighvillagehall.co.uk
SUMMARY:Play Reading MR
DESCRIPTION:
URL:http://www.lustleighvillagehall.co.uk/event/play-reading-mr/2022-09-07
LOCATION:Meeting Room/Kitchen
ORGANIZER;CN="Brian Wilmot":MAILTO:brianswilmot@hotmail.com
END:VEVENT
BEGIN:VEVENT
DTSTART;TZID=Europe/London:20220906T190000
DTEND;TZID=Europe/London:20220906T200000
DTSTAMP:20260424T222557
CREATED:20220816T164553Z
LAST-MODIFIED:20220816T164553Z
UID:6547-1662490800-1662494400@www.lustleighvillagehall.co.uk
SUMMARY:PC Orchard Meeting MH  if wet
DESCRIPTION:
URL:http://www.lustleighvillagehall.co.uk/event/pc-orchard-meeting-mh-if-wet
LOCATION:Meeting Room\, Lustleigh Village Hall\, Lustleigh\, Devon\, TQ13 9TA\, United Kingdom
ORGANIZER;CN="Lustleigh Parish Council":MAILTO:lustleighparishclerk@hotmail.com
GEO:50.6186324;-3.7197012
X-APPLE-STRUCTURED-LOCATION;VALUE=URI;X-ADDRESS=Meeting Room Lustleigh Village Hall Lustleigh Devon TQ13 9TA United Kingdom;X-APPLE-RADIUS=500;X-TITLE=Lustleigh Village Hall:geo:-3.7197012,50.6186324
END:VEVENT
BEGIN:VEVENT
DTSTART;TZID=Europe/London:20220905T190000
DTEND;TZID=Europe/London:20220905T210000
DTSTAMP:20260424T222557
CREATED:20220705T140621Z
LAST-MODIFIED:20220705T140621Z
UID:6477-1662404400-1662411600@www.lustleighvillagehall.co.uk
SUMMARY:L. Soc MR
DESCRIPTION:Committee Meeting
URL:http://www.lustleighvillagehall.co.uk/event/l-soc-mr
LOCATION:Meeting Room\, Lustleigh Village Hall\, Lustleigh\, TQ13 9TA\, United Kingdom
ORGANIZER;CN="Lustleigh Society":MAILTO:lustleighsec@gmail.com
GEO:50.6186324;-3.7197012
X-APPLE-STRUCTURED-LOCATION;VALUE=URI;X-ADDRESS=Meeting Room Lustleigh Village Hall Lustleigh TQ13 9TA United Kingdom;X-APPLE-RADIUS=500;X-TITLE=Lustleigh Village Hall:geo:-3.7197012,50.6186324
END:VEVENT
BEGIN:VEVENT
DTSTART;TZID=Europe/London:20220905T160000
DTEND;TZID=Europe/London:20220905T170000
DTSTAMP:20260424T222557
CREATED:20220816T164427Z
LAST-MODIFIED:20220816T164427Z
UID:6545-1662393600-1662397200@www.lustleighvillagehall.co.uk
SUMMARY:Village Hall Meeting
DESCRIPTION:
URL:http://www.lustleighvillagehall.co.uk/event/village-hall-meeting-2
LOCATION:Meeting Room\, Lustleigh Village Hall\, Lustleigh\, TQ13 9TA\, United Kingdom
ORGANIZER;CN="Sarah Vantreen":MAILTO:sarahvantreen@gmail.com
GEO:50.6186324;-3.7197012
X-APPLE-STRUCTURED-LOCATION;VALUE=URI;X-ADDRESS=Meeting Room Lustleigh Village Hall Lustleigh TQ13 9TA United Kingdom;X-APPLE-RADIUS=500;X-TITLE=Lustleigh Village Hall:geo:-3.7197012,50.6186324
END:VEVENT
BEGIN:VEVENT
DTSTART;TZID=Europe/London:20220905T080000
DTEND;TZID=Europe/London:20220905T160000
DTSTAMP:20260424T222557
CREATED:20220112T103303Z
LAST-MODIFIED:20230324T110003Z
UID:5897-1662364800-1662393600@www.lustleighvillagehall.co.uk
SUMMARY:Preschool
DESCRIPTION:
URL:http://www.lustleighvillagehall.co.uk/event/preschool-30/2022-09-05
LOCATION:Entire Hall
END:VEVENT
BEGIN:VEVENT
DTSTART;TZID=Europe/London:20220902T110000
DTEND;TZID=Europe/London:20220902T150000
DTSTAMP:20260424T222557
CREATED:20220831T181435Z
LAST-MODIFIED:20220831T181435Z
UID:6550-1662116400-1662130800@www.lustleighvillagehall.co.uk
SUMMARY:Private party
DESCRIPTION:
URL:http://www.lustleighvillagehall.co.uk/event/private-party
LOCATION:Main Hall/Kit
END:VEVENT
BEGIN:VEVENT
DTSTART;TZID=Europe/London:20220801T180000
DTEND;TZID=Europe/London:20220801T200000
DTSTAMP:20260424T222557
CREATED:20220724T130812Z
LAST-MODIFIED:20220802T181559Z
UID:6501-1659376800-1659384000@www.lustleighvillagehall.co.uk
SUMMARY:Yoga with Zoe
DESCRIPTION:Yoga with Zoe Challenor at Lustleigh Village Hall.\nA gentle yoga class that is accessible for beginners and improvers. \nNew applicant’s should complete the attached PAR-Q (physical activity readiness questionnaire) prior to their first session with Zoe\, by following the instructions below. \nDownload the editable PAR-Q Form by clicking on the link below and either print\, complete and bring it to your 1st session\, or download\, save it onto your computer\, complete it on-line and email it to Zoe. \nDownload the PAR-Q Form as an editable pdf  file here \nEmail it to Zoe here: \nzchallenor@yahoo.co.uk
URL:http://www.lustleighvillagehall.co.uk/event/yoga-2022-08-01/2022-08-01
LOCATION:Meeting Room\, Lustleigh Village Hall\, Lustleigh\, Devon\, TQ13 9TA\, United Kingdom
CATEGORIES:Public Events
ATTACH;FMTTYPE=image/jpeg:http://www.lustleighvillagehall.co.uk/wp-content/uploads/2022/04/Yoga-with-Zoe.jpg
ORGANIZER;CN="Zoe Challoner":MAILTO:zchallenor@yahoo.co.uk
GEO:50.6186324;-3.7197012
X-APPLE-STRUCTURED-LOCATION;VALUE=URI;X-ADDRESS=Meeting Room Lustleigh Village Hall Lustleigh Devon TQ13 9TA United Kingdom;X-APPLE-RADIUS=500;X-TITLE=Lustleigh Village Hall:geo:-3.7197012,50.6186324
END:VEVENT
BEGIN:VEVENT
DTSTART;TZID=Europe/London:20220729T090000
DTEND;TZID=Europe/London:20220729T170000
DTSTAMP:20260424T222557
CREATED:20220524T100655Z
LAST-MODIFIED:20220524T100655Z
UID:6388-1659085200-1659114000@www.lustleighvillagehall.co.uk
SUMMARY:MED Theatre
DESCRIPTION:Play and Workshop if wet
URL:http://www.lustleighvillagehall.co.uk/event/med-theatre
LOCATION:Main Hall/Kit
END:VEVENT
BEGIN:VEVENT
DTSTART;TZID=Europe/London:20220726T080000
DTEND;TZID=Europe/London:20220726T170000
DTSTAMP:20260424T222557
CREATED:20220204T183232Z
LAST-MODIFIED:20220204T183232Z
UID:6054-1658822400-1658854800@www.lustleighvillagehall.co.uk
SUMMARY:Holiday Club
DESCRIPTION:Preschool
URL:http://www.lustleighvillagehall.co.uk/event/holiday-club-4/2022-07-26
LOCATION:Entire Hall
END:VEVENT
BEGIN:VEVENT
DTSTART;TZID=Europe/London:20220725T180000
DTEND;TZID=Europe/London:20220725T200000
DTSTAMP:20260424T222557
CREATED:20220724T130812Z
LAST-MODIFIED:20220729T140616Z
UID:6499-1658772000-1658779200@www.lustleighvillagehall.co.uk
SUMMARY:Yoga with Zoe Challenor at Lustleigh Village Hall
DESCRIPTION:Yoga with Zoe Challenor at Lustleigh Village Hall.\nA gentle yoga class that is accessible for beginners and improvers. \nNew applicant’s should complete the attached PAR-Q (physical activity readiness questionnaire) prior to their first session with Zoe\, by following the instructions below. \nDownload the editable PAR-Q Form by clicking on the link below and either print\, complete and bring it to your 1st session\, or download\, save it onto your computer\, complete it on-line and email it to Zoe. \nDownload the PAR-Q Form as an editable pdf  file here \nEmail it to Zoe here: \nzchallenor@yahoo.co.uk
URL:http://www.lustleighvillagehall.co.uk/event/yoga
LOCATION:Meeting Room\, Lustleigh Village Hall\, Lustleigh\, Devon\, TQ13 9TA\, United Kingdom
CATEGORIES:Public Events
ATTACH;FMTTYPE=image/jpeg:http://www.lustleighvillagehall.co.uk/wp-content/uploads/2022/04/Yoga-with-Zoe.jpg
ORGANIZER;CN="Zoe Challoner":MAILTO:zchallenor@yahoo.co.uk
GEO:50.6186324;-3.7197012
X-APPLE-STRUCTURED-LOCATION;VALUE=URI;X-ADDRESS=Meeting Room Lustleigh Village Hall Lustleigh Devon TQ13 9TA United Kingdom;X-APPLE-RADIUS=500;X-TITLE=Lustleigh Village Hall:geo:-3.7197012,50.6186324
END:VEVENT
BEGIN:VEVENT
DTSTART;TZID=Europe/London:20220714T193000
DTEND;TZID=Europe/London:20220714T213000
DTSTAMP:20260424T222557
CREATED:20220107T134443Z
LAST-MODIFIED:20220111T134137Z
UID:5708-1657827000-1657834200@www.lustleighvillagehall.co.uk
SUMMARY:Parish Council Meeting
DESCRIPTION:Parish Council Meetings take place every second Thursday in the month\, except in August when\, tired out by their efforts (which the Council think go mostly unappreciated) they take a holiday. Sheep in the Orchard\, planning issues\, blocked gullies\, potholes\, trees\, parking and a lot more are discussed at these meetings\, so if you have a problem\, or are simply otherwise unoccupied on the second Thursday\, then come along. This is your opportunity to barrack your Councillors\, who will be delighted and overjoyed to hear from you.
URL:http://www.lustleighvillagehall.co.uk/event/parish-council-meeting-6
LOCATION:Meeting Room\, Lustleigh Village Hall\, Lustleigh\, TQ13 9TA\, United Kingdom
CATEGORIES:Public Events
ATTACH;FMTTYPE=image/jpeg:http://www.lustleighvillagehall.co.uk/wp-content/uploads/2021/06/parish-council-meeting.jpg
ORGANIZER;CN="Lustleigh Parish Council":MAILTO:lustleighparishclerk@hotmail.com
GEO:50.6186324;-3.7197012
X-APPLE-STRUCTURED-LOCATION;VALUE=URI;X-ADDRESS=Meeting Room Lustleigh Village Hall Lustleigh TQ13 9TA United Kingdom;X-APPLE-RADIUS=500;X-TITLE=Lustleigh Village Hall:geo:-3.7197012,50.6186324
END:VEVENT
BEGIN:VEVENT
DTSTART;TZID=Europe/London:20220707T190000
DTEND;TZID=Europe/London:20220707T200000
DTSTAMP:20260424T222557
CREATED:20220628T142901Z
LAST-MODIFIED:20220628T142901Z
UID:6445-1657220400-1657224000@www.lustleighvillagehall.co.uk
SUMMARY:Extraordinary PC Meeting
DESCRIPTION:
URL:http://www.lustleighvillagehall.co.uk/event/extraordinary-pc-meeting
LOCATION:Meeting Room\, Lustleigh Village Hall\, Lustleigh\, TQ13 9TA\, United Kingdom
ORGANIZER;CN="Lustleigh Parish Council":MAILTO:lustleighparishclerk@hotmail.com
GEO:50.6186324;-3.7197012
X-APPLE-STRUCTURED-LOCATION;VALUE=URI;X-ADDRESS=Meeting Room Lustleigh Village Hall Lustleigh TQ13 9TA United Kingdom;X-APPLE-RADIUS=500;X-TITLE=Lustleigh Village Hall:geo:-3.7197012,50.6186324
END:VEVENT
BEGIN:VEVENT
DTSTART;TZID=Europe/London:20220705T190000
DTEND;TZID=Europe/London:20220705T210000
DTSTAMP:20260424T222558
CREATED:20220201T152705Z
LAST-MODIFIED:20220925T090033Z
UID:6030-1657047600-1657054800@www.lustleighvillagehall.co.uk
SUMMARY:Church Discussion Group
DESCRIPTION:
URL:http://www.lustleighvillagehall.co.uk/event/church-discussion-group-2-2022-07-05/2022-07-05
LOCATION:Meeting Room/Kitchen
ORGANIZER;CN="Jeanette Wilmot":MAILTO:moirlee12@gmail.com
END:VEVENT
BEGIN:VEVENT
DTSTART;TZID=Europe/London:20220702T150000
DTEND;TZID=Europe/London:20220702T160000
DTSTAMP:20260424T222558
CREATED:20220526T093805Z
LAST-MODIFIED:20220628T145252Z
UID:6413-1656774000-1656777600@www.lustleighvillagehall.co.uk
SUMMARY:LEAP Presents: ‘ALICE IN WONDERLAND’ (Click here to view the full listing and to book tickets)
DESCRIPTION:LEAP ARE BRINGING YOU ANOTHER RIGHT ROYAL TEAPARTY! \nSaturday 2nd July 3.00.pm in the Orchard \nA Show for All Ages with Cream Teas available in the Village Hall \n‘ALICE IN WONDERLAND’ \nDevised and Performed by THE COMMON PLAYERS \nThe Queen of Hearts is on the war-path! It’s up to Alice to save every-ones’ heads by throwing her a tea-party\, along with the help of new friends\, like the Turtle\, who’d rather be singing\, a Cook with a pepper habit\, a Hatter who’s quite mad\, an unpunctual Rabbit and a very naughty Cat. What could possibly go wrong? \nThis is the nonsensical world of Lewis Carroll – but not quite as you know it! Expect larger-than-life characters\, puppets\, live music\, dancing and a Wonderland of absurdity and fun. \nBring along your family and friends and a blanket or chair to sit on\, and follow the Common Players down the rabbit hole. Some refreshments will be available with cream teas served in the Village Hall. There might be some jam tarts – if the Knave of Hearts hasn’t stolen them… \nTickets: £10 adults\, £5 children. Under 5s Free. Available from The Dairy or on-line at Ticketsource. Further information from: \nAlexa Mason\, the Lustleigh Entertainment and Arts Project\, 01647277 498 \nClick here for the Ticketsource Direct Link \nP.S. Please do not be confused by publicity for the prior Moretonhampstead performance of this show in June – and be sure to support the Lustleigh event!
URL:http://www.lustleighvillagehall.co.uk/event/lear-presents-alice-in-wonderland
LOCATION:The Village Orchard
CATEGORIES:LEAP,Public Events
ATTACH;FMTTYPE=image/jpeg:http://www.lustleighvillagehall.co.uk/wp-content/uploads/2022/05/Alice-1.jpg
ORGANIZER;CN="LEAP":MAILTO:leap.lustleigh@gmail.com
END:VEVENT
BEGIN:VEVENT
DTSTART;TZID=Europe/London:20220627T190000
DTEND;TZID=Europe/London:20220627T210000
DTSTAMP:20260424T222558
CREATED:20220211T095930Z
LAST-MODIFIED:20220211T095930Z
UID:6086-1656356400-1656363600@www.lustleighvillagehall.co.uk
SUMMARY:Lustleigh Soc
DESCRIPTION:Committee Meeting
URL:http://www.lustleighvillagehall.co.uk/event/lustleigh-soc-4
LOCATION:Meeting Room\, Lustleigh Village Hall\, Lustleigh\, TQ13 9TA\, United Kingdom
ORGANIZER;CN="Lustleigh Society":MAILTO:lustleighsec@gmail.com
GEO:50.6186324;-3.7197012
X-APPLE-STRUCTURED-LOCATION;VALUE=URI;X-ADDRESS=Meeting Room Lustleigh Village Hall Lustleigh TQ13 9TA United Kingdom;X-APPLE-RADIUS=500;X-TITLE=Lustleigh Village Hall:geo:-3.7197012,50.6186324
END:VEVENT
BEGIN:VEVENT
DTSTART;TZID=Europe/London:20220627T160000
DTEND;TZID=Europe/London:20220627T170000
DTSTAMP:20260424T222558
CREATED:20220524T092127Z
LAST-MODIFIED:20220524T092127Z
UID:6386-1656345600-1656349200@www.lustleighvillagehall.co.uk
SUMMARY:Village Hall Meeting
DESCRIPTION:Committee
URL:http://www.lustleighvillagehall.co.uk/event/village-hall-meeting
LOCATION:Meeting Room\, Lustleigh Village Hall\, Lustleigh\, TQ13 9TA\, United Kingdom
ORGANIZER;CN="Village Hall Committee":MAILTO:sarahvantreen@gmail.com
GEO:50.6186324;-3.7197012
X-APPLE-STRUCTURED-LOCATION;VALUE=URI;X-ADDRESS=Meeting Room Lustleigh Village Hall Lustleigh TQ13 9TA United Kingdom;X-APPLE-RADIUS=500;X-TITLE=Lustleigh Village Hall:geo:-3.7197012,50.6186324
END:VEVENT
BEGIN:VEVENT
DTSTART;TZID=Europe/London:20220625T110000
DTEND;TZID=Europe/London:20220625T120000
DTSTAMP:20260424T222558
CREATED:20220516T155427Z
LAST-MODIFIED:20220616T102308Z
UID:6365-1656154800-1656158400@www.lustleighvillagehall.co.uk
SUMMARY:Police Surgery - Meeting Room 11am to 12 Noon
DESCRIPTION:Members of the Neighbourhood Police Team will be at the Hall on Saturday 25th June. \nIf you have any questions or concerns about we police locally\, then please feel free to attend and speak to those present. \nWe will be there from 11am to 12 Noon for anyone to drop in.
URL:http://www.lustleighvillagehall.co.uk/event/police-surgery
LOCATION:Meeting Room\, Lustleigh Village Hall\, Lustleigh\, TQ13 9TA\, United Kingdom
CATEGORIES:Public Events
ATTACH;FMTTYPE=image/png:http://www.lustleighvillagehall.co.uk/wp-content/uploads/2022/05/Police-Surgery.png
ORGANIZER;CN="Lustleigh Parish Council":MAILTO:lustleighparishclerk@hotmail.com
GEO:50.6186324;-3.7197012
X-APPLE-STRUCTURED-LOCATION;VALUE=URI;X-ADDRESS=Meeting Room Lustleigh Village Hall Lustleigh TQ13 9TA United Kingdom;X-APPLE-RADIUS=500;X-TITLE=Lustleigh Village Hall:geo:-3.7197012,50.6186324
END:VEVENT
BEGIN:VEVENT
DTSTART;TZID=Europe/London:20220605T080000
DTEND;TZID=Europe/London:20220605T170000
DTSTAMP:20260424T222558
CREATED:20220211T095809Z
LAST-MODIFIED:20220301T100416Z
UID:6084-1654416000-1654448400@www.lustleighvillagehall.co.uk
SUMMARY:PLATINUM JUBILEE PICNIC
DESCRIPTION:Parish Council
URL:http://www.lustleighvillagehall.co.uk/event/platinum-jubilee
LOCATION:Entire Hall
ORGANIZER;CN="Lustleigh Parish Council":MAILTO:lustleighparishclerk@hotmail.com
END:VEVENT
BEGIN:VEVENT
DTSTART;TZID=Europe/London:20220604T080000
DTEND;TZID=Europe/London:20220604T233000
DTSTAMP:20260424T222558
CREATED:20220301T100337Z
LAST-MODIFIED:20220301T100337Z
UID:6138-1654329600-1654385400@www.lustleighvillagehall.co.uk
SUMMARY:PLATINUM JUBILEE PARTY
DESCRIPTION:Evening Party
URL:http://www.lustleighvillagehall.co.uk/event/platinum-jubilee-party
LOCATION:Entire Hall
ORGANIZER;CN="Lustleigh Parish Council":MAILTO:lustleighparishclerk@hotmail.com
END:VEVENT
BEGIN:VEVENT
DTSTART;TZID=Europe/London:20220530T080000
DTEND;TZID=Europe/London:20220602T170000
DTSTAMP:20260424T222558
CREATED:20220112T111111Z
LAST-MODIFIED:20220112T111111Z
UID:5974-1653897600-1654189200@www.lustleighvillagehall.co.uk
SUMMARY:Half Term
DESCRIPTION:
URL:http://www.lustleighvillagehall.co.uk/event/half-term-10
LOCATION:Meeting Room\, Lustleigh Village Hall\, Lustleigh\, Devon\, TQ13 9TA\, United Kingdom
GEO:50.6186324;-3.7197012
X-APPLE-STRUCTURED-LOCATION;VALUE=URI;X-ADDRESS=Meeting Room Lustleigh Village Hall Lustleigh Devon TQ13 9TA United Kingdom;X-APPLE-RADIUS=500;X-TITLE=Lustleigh Village Hall:geo:-3.7197012,50.6186324
END:VEVENT
BEGIN:VEVENT
DTSTART;TZID=Europe/London:20220518T190000
DTEND;TZID=Europe/London:20220518T230000
DTSTAMP:20260424T222558
CREATED:20210806T125730Z
LAST-MODIFIED:20220416T102737Z
UID:5366-1652900400-1652914800@www.lustleighvillagehall.co.uk
SUMMARY:The Lustleigh Society presents...."The Restoration of Castle Drogo"
DESCRIPTION:The Lustleigh Society \nWednesday 18th May – 7.15 for 7.30pm \nThe Restoration of Castle Drogo \nSpeaker – Castle Drogo Volunteer  \nThe presentation will cover the 7 long years of major restoration work to protect the castle designed and built by renowned 20th century architect Sir Edwin Lutyens\, from the unforgiving Dartmoor wind and rain. An informed duo\, with over ten years of experience and knowledge will walk us through the hard work that has been carried out to ensure that the castle endures many more years of Dartmoor weather. This presentation will also prepare members and give them an insight of what we will see on the upcoming visit on the 15th June. \nOur meetings are held at Lustleigh Village Hall. \nPlease come and join us for a sociable glass of wine before the meeting. \nNon-members welcome. \nView a National Trust Article on the project here. \nPlease contact Lynn on 07852 998153 if you would like more details.
URL:http://www.lustleighvillagehall.co.uk/event/lustleigh-society-20-2022-05-18
LOCATION:Main Hall/Kit
CATEGORIES:Lustleigh Society,Public Events
ATTACH;FMTTYPE=image/jpeg:http://www.lustleighvillagehall.co.uk/wp-content/uploads/2021/08/1943_Drogo3.jpg
END:VEVENT
BEGIN:VEVENT
DTSTART;TZID=Europe/London:20220516T190000
DTEND;TZID=Europe/London:20220516T200000
DTSTAMP:20260424T222558
CREATED:20220418T122705Z
LAST-MODIFIED:20220418T122705Z
UID:6275-1652727600-1652731200@www.lustleighvillagehall.co.uk
SUMMARY:Preschool AGM
DESCRIPTION:
URL:http://www.lustleighvillagehall.co.uk/event/preschool-agm
LOCATION:Meeting Room\, Lustleigh Village Hall\, Lustleigh\, TQ13 9TA\, United Kingdom
GEO:50.6186324;-3.7197012
X-APPLE-STRUCTURED-LOCATION;VALUE=URI;X-ADDRESS=Meeting Room Lustleigh Village Hall Lustleigh TQ13 9TA United Kingdom;X-APPLE-RADIUS=500;X-TITLE=Lustleigh Village Hall:geo:-3.7197012,50.6186324
END:VEVENT
BEGIN:VEVENT
DTSTART;TZID=Europe/London:20220512T193000
DTEND;TZID=Europe/London:20220512T213000
DTSTAMP:20260424T222558
CREATED:20220107T134145Z
LAST-MODIFIED:20220111T133942Z
UID:5706-1652383800-1652391000@www.lustleighvillagehall.co.uk
SUMMARY:Parish Council Meeting
DESCRIPTION:Parish Council Meetings take place every second Thursday in the month\, except in August when\, tired out by their efforts (which the Council think go mostly unappreciated) they take a holiday. Sheep in the Orchard\, planning issues\, blocked gullies\, potholes\, trees\, parking and a lot more are discussed at these meetings\, so if you have a problem\, or are simply otherwise unoccupied on the second Thursday\, then come along. This is your opportunity to barrack your Councillors\, who will be delighted and overjoyed to hear from you.
URL:http://www.lustleighvillagehall.co.uk/event/parish-council-meeting-5
LOCATION:Meeting Room\, Lustleigh Village Hall\, Lustleigh\, TQ13 9TA\, United Kingdom
CATEGORIES:Public Events
ATTACH;FMTTYPE=image/jpeg:http://www.lustleighvillagehall.co.uk/wp-content/uploads/2021/06/parish-council-meeting.jpg
ORGANIZER;CN="Lustleigh Parish Council":MAILTO:lustleighparishclerk@hotmail.com
GEO:50.6186324;-3.7197012
X-APPLE-STRUCTURED-LOCATION;VALUE=URI;X-ADDRESS=Meeting Room Lustleigh Village Hall Lustleigh TQ13 9TA United Kingdom;X-APPLE-RADIUS=500;X-TITLE=Lustleigh Village Hall:geo:-3.7197012,50.6186324
END:VEVENT
BEGIN:VEVENT
DTSTART;TZID=Europe/London:20220509T190000
DTEND;TZID=Europe/London:20220509T203000
DTSTAMP:20260424T222558
CREATED:20220418T122600Z
LAST-MODIFIED:20220423T170947Z
UID:6273-1652122800-1652128200@www.lustleighvillagehall.co.uk
SUMMARY:Cardiopulmonary Resuscitation (CPR) Training
DESCRIPTION:Cardiopulmonary Resuscitation (CPR) Training. \nBasic life support and CPR skills training with Sarah Brewer and Keith Edwards community training officer for South West Ambulance. \nA two hour training session on Monday 9th May starting at 7pm. \nA Brief History and How to Book: \nIn 2015 we held some very popular and well received sessions on basic life support and CPR training in the Village Hall. \nThis resulted in the installation of the village defibrillator sited at the Village Hall\, by kind agreement of the Village Hall Management Committee and kindly sponsored by the Lustleigh Association Of Volunteer Drivers\, LADS. \nThere has been recent discussion on the LADS committee about arranging further CPR training sessions. \nThe sudden collapse of a relative friend or neighbour is difficult to cope with but having the confidence to assess\, call for help and administer basic life support whilst waiting for emergency services to arrive can be a life saver. \nAlthough many of us may have these skills they soon become rusty and it is important to practice them and keep up to date. \nSarah Brewer and Keith Edwards the community training officer for South West Ambulance are planning a series of training sessions which we hope to arrange in April. \nWe will be holding 2 hour sessions for 12 people in the village hall that will cover basic life support\, recognition of stroke and other medical emergencies. \nThe sessions will be free but we suggest a contribution to a charity of your choice. \nPlease contact me if you would like to attend one of these sessions and we will confirm dates as soon as we can. We may be able to arrange further sessions should they be needed. \nJohn Heather \njohnheather1@btinternet.com \n01647 277438
URL:http://www.lustleighvillagehall.co.uk/event/lads-cpr
LOCATION:Meeting Room\, Lustleigh Village Hall\, Lustleigh\, TQ13 9TA\, United Kingdom
CATEGORIES:Public Events,Talks and lectures
ATTACH;FMTTYPE=image/jpeg:http://www.lustleighvillagehall.co.uk/wp-content/uploads/2022/03/cpr.jpg
ORGANIZER;CN="John Heather":MAILTO:johnheather1@btinternet.com
GEO:50.6186324;-3.7197012
X-APPLE-STRUCTURED-LOCATION;VALUE=URI;X-ADDRESS=Meeting Room Lustleigh Village Hall Lustleigh TQ13 9TA United Kingdom;X-APPLE-RADIUS=500;X-TITLE=Lustleigh Village Hall:geo:-3.7197012,50.6186324
END:VEVENT
END:VCALENDAR