BEGIN:VCALENDAR
VERSION:2.0
PRODID:-//Lustleigh Village Hall - ECPv6.15.20//NONSGML v1.0//EN
CALSCALE:GREGORIAN
METHOD:PUBLISH
X-WR-CALNAME:Lustleigh Village Hall
X-ORIGINAL-URL:http://www.lustleighvillagehall.co.uk
X-WR-CALDESC:Events for Lustleigh Village Hall
REFRESH-INTERVAL;VALUE=DURATION:PT1H
X-Robots-Tag:noindex
X-PUBLISHED-TTL:PT1H
BEGIN:VTIMEZONE
TZID:Europe/London
BEGIN:DAYLIGHT
TZOFFSETFROM:+0000
TZOFFSETTO:+0100
TZNAME:BST
DTSTART:20210328T010000
END:DAYLIGHT
BEGIN:STANDARD
TZOFFSETFROM:+0100
TZOFFSETTO:+0000
TZNAME:GMT
DTSTART:20211031T010000
END:STANDARD
BEGIN:DAYLIGHT
TZOFFSETFROM:+0000
TZOFFSETTO:+0100
TZNAME:BST
DTSTART:20220327T010000
END:DAYLIGHT
BEGIN:STANDARD
TZOFFSETFROM:+0100
TZOFFSETTO:+0000
TZNAME:GMT
DTSTART:20221030T010000
END:STANDARD
BEGIN:DAYLIGHT
TZOFFSETFROM:+0000
TZOFFSETTO:+0100
TZNAME:BST
DTSTART:20230326T010000
END:DAYLIGHT
BEGIN:STANDARD
TZOFFSETFROM:+0100
TZOFFSETTO:+0000
TZNAME:GMT
DTSTART:20231029T010000
END:STANDARD
END:VTIMEZONE
BEGIN:VEVENT
DTSTART;TZID=Europe/London:20221208T193000
DTEND;TZID=Europe/London:20221208T213000
DTSTAMP:20260424T180837
CREATED:20220107T134950Z
LAST-MODIFIED:20220111T134546Z
UID:5716-1670527800-1670535000@www.lustleighvillagehall.co.uk
SUMMARY:Lustleigh Parish Council
DESCRIPTION:Parish Council Meetings take place every second Thursday in the month\, except in August when\, tired out by their efforts (which the Council think go mostly unappreciated) they take a holiday. Sheep in the Orchard\, planning issues\, blocked gullies\, potholes\, trees\, parking and a lot more are discussed at these meetings\, so if you have a problem\, or are simply otherwise unoccupied on the second Thursday\, then come along. This is your opportunity to barrack your Councillors\, who will be delighted and overjoyed to hear from you.
URL:http://www.lustleighvillagehall.co.uk/event/lustleigh-parish-council
LOCATION:Meeting Room\, Lustleigh Village Hall\, Lustleigh\, TQ13 9TA\, United Kingdom
CATEGORIES:Public Events
ATTACH;FMTTYPE=image/jpeg:http://www.lustleighvillagehall.co.uk/wp-content/uploads/2021/06/parish-council-meeting.jpg
ORGANIZER;CN="Lustleigh Parish Council":MAILTO:lustleighparishclerk@hotmail.com
GEO:50.6186324;-3.7197012
X-APPLE-STRUCTURED-LOCATION;VALUE=URI;X-ADDRESS=Meeting Room Lustleigh Village Hall Lustleigh TQ13 9TA United Kingdom;X-APPLE-RADIUS=500;X-TITLE=Lustleigh Village Hall:geo:-3.7197012,50.6186324
END:VEVENT
BEGIN:VEVENT
DTSTART;TZID=Europe/London:20221205T190000
DTEND;TZID=Europe/London:20221205T210000
DTSTAMP:20260424T180837
CREATED:20221116T112912Z
LAST-MODIFIED:20221116T112912Z
UID:6834-1670266800-1670274000@www.lustleighvillagehall.co.uk
SUMMARY:Cricket Club AGM
DESCRIPTION:
URL:http://www.lustleighvillagehall.co.uk/event/cricket-club-agm
LOCATION:Meeting Room\, Lustleigh Village Hall\, Lustleigh\, TQ13 9TA\, United Kingdom
ORGANIZER;CN="Lustleigh Cricket Club":MAILTO:ed@igriffin.co.uk
GEO:50.6186324;-3.7197012
X-APPLE-STRUCTURED-LOCATION;VALUE=URI;X-ADDRESS=Meeting Room Lustleigh Village Hall Lustleigh TQ13 9TA United Kingdom;X-APPLE-RADIUS=500;X-TITLE=Lustleigh Village Hall:geo:-3.7197012,50.6186324
END:VEVENT
BEGIN:VEVENT
DTSTART;TZID=Europe/London:20221204T100000
DTEND;TZID=Europe/London:20221204T150000
DTSTAMP:20260424T180837
CREATED:20221026T125818Z
LAST-MODIFIED:20221026T125818Z
UID:6790-1670148000-1670166000@www.lustleighvillagehall.co.uk
SUMMARY:Apple Tree Pruning
DESCRIPTION:Orchard Link
URL:http://www.lustleighvillagehall.co.uk/event/apple-tree-pruning
LOCATION:Meeting Room\, Lustleigh Village Hall\, Lustleigh\, TQ13 9TA\, United Kingdom
ORGANIZER;CN="Martin Strudley":MAILTO:martinstrudley@gmail.com
GEO:50.6186324;-3.7197012
X-APPLE-STRUCTURED-LOCATION;VALUE=URI;X-ADDRESS=Meeting Room Lustleigh Village Hall Lustleigh TQ13 9TA United Kingdom;X-APPLE-RADIUS=500;X-TITLE=Lustleigh Village Hall:geo:-3.7197012,50.6186324
END:VEVENT
BEGIN:VEVENT
DTSTART;TZID=Europe/London:20221203T100000
DTEND;TZID=Europe/London:20221203T160000
DTSTAMP:20260424T180837
CREATED:20220907T133237Z
LAST-MODIFIED:20221115T164944Z
UID:6572-1670061600-1670083200@www.lustleighvillagehall.co.uk
SUMMARY:CHRISTMAS FAIR – LUSTLEIGH ARTISTS AND MAKERS 2022
DESCRIPTION:The creative people of Lustleigh are coming together this Christmas time to offer you a unique\, locally grown\, festive experience at the Lustleigh Christmas Fair in the Village Hall. With art\, crafts\, music and baked delights\, we’d love you to join us for this wonderful showcase.
URL:http://www.lustleighvillagehall.co.uk/event/christmas-fair
LOCATION:Entire Hall
CATEGORIES:Public Events
ATTACH;FMTTYPE=image/jpeg:http://www.lustleighvillagehall.co.uk/wp-content/uploads/2022/09/Xmas-fair-poster-final2.jpg
ORGANIZER;CN="Village Hall Committee":MAILTO:sarahvantreen@gmail.com
END:VEVENT
BEGIN:VEVENT
DTSTART;TZID=Europe/London:20221202T140000
DTEND;TZID=Europe/London:20221202T150000
DTSTAMP:20260424T180837
CREATED:20221127T141341Z
LAST-MODIFIED:20221127T141341Z
UID:6853-1669989600-1669993200@www.lustleighvillagehall.co.uk
SUMMARY:Choir Practice (Children)MR
DESCRIPTION:
URL:http://www.lustleighvillagehall.co.uk/event/choir-practice-childrenmr
LOCATION:Meeting Room\, Lustleigh Village Hall\, Lustleigh\, TQ13 9TA\, United Kingdom
GEO:50.6186324;-3.7197012
X-APPLE-STRUCTURED-LOCATION;VALUE=URI;X-ADDRESS=Meeting Room Lustleigh Village Hall Lustleigh TQ13 9TA United Kingdom;X-APPLE-RADIUS=500;X-TITLE=Lustleigh Village Hall:geo:-3.7197012,50.6186324
END:VEVENT
BEGIN:VEVENT
DTSTART;TZID=Europe/London:20221202T130000
DTEND;TZID=Europe/London:20221202T220000
DTSTAMP:20260424T180837
CREATED:20221108T180128Z
LAST-MODIFIED:20221108T180128Z
UID:6821-1669986000-1670018400@www.lustleighvillagehall.co.uk
SUMMARY:Xmas Fayre Set Up
DESCRIPTION:
URL:http://www.lustleighvillagehall.co.uk/event/xmas-fayre-set-up
LOCATION:Entire Hall
ORGANIZER;CN="Village Hall Committee":MAILTO:sarahvantreen@gmail.com
END:VEVENT
BEGIN:VEVENT
DTSTART;TZID=Europe/London:20221130T190000
DTEND;TZID=Europe/London:20221130T230000
DTSTAMP:20260424T180837
CREATED:20210806T125730Z
LAST-MODIFIED:20221117T102335Z
UID:5997-1669834800-1669849200@www.lustleighvillagehall.co.uk
SUMMARY:The Lustleigh Society AGM followed by "Entertainment"
DESCRIPTION:Lustleigh Society AGM \nLustleigh Village Hall 7.15pm for 7.30pm. \nThe Lustleigh Society AGM followed by “Entertainment”. \nThe programme  will be as follows: \n7.00 pm        Doors open \n7.30              AGM (business) .. followed by presentation of the Lustleigh Society Heritage Award. \n8.00              Refreshments \n8.30              Two illustrated talks: \nGavin Dunbar: The River Teign Restoration Project \nMike Peace: 42 And Counting – running in the London Marathon \n9.30              End of proceedings \nContact – Lynn 07852 998153 for any other details.
URL:http://www.lustleighvillagehall.co.uk/event/lustleigh-society-20-2022-11-30
LOCATION:Main Hall/Kit
CATEGORIES:Lustleigh Society,Public Events
ATTACH;FMTTYPE=image/jpeg:http://www.lustleighvillagehall.co.uk/wp-content/uploads/2018/02/AGM.jpg
END:VEVENT
BEGIN:VEVENT
DTSTART;TZID=Europe/London:20221128T193000
DTEND;TZID=Europe/London:20221128T203000
DTSTAMP:20260424T180837
CREATED:20221127T141509Z
LAST-MODIFIED:20221127T141509Z
UID:6855-1669663800-1669667400@www.lustleighvillagehall.co.uk
SUMMARY:Makers' Meeting MR
DESCRIPTION:Re. Christmas Fair
URL:http://www.lustleighvillagehall.co.uk/event/makers-meeting-mr
LOCATION:Meeting Room\, Lustleigh Village Hall\, Lustleigh\, Devon\, TQ13 9TA\, United Kingdom
GEO:50.6186324;-3.7197012
X-APPLE-STRUCTURED-LOCATION;VALUE=URI;X-ADDRESS=Meeting Room Lustleigh Village Hall Lustleigh Devon TQ13 9TA United Kingdom;X-APPLE-RADIUS=500;X-TITLE=Lustleigh Village Hall:geo:-3.7197012,50.6186324
END:VEVENT
BEGIN:VEVENT
DTSTART;TZID=Europe/London:20221112T090000
DTEND;TZID=Europe/London:20221112T120000
DTSTAMP:20260424T180837
CREATED:20221103T101723Z
LAST-MODIFIED:20221103T103045Z
UID:6810-1668243600-1668254400@www.lustleighvillagehall.co.uk
SUMMARY:COMMUNITY COFFEE MORNING - Hosted by Orchard Pre-School Parents
DESCRIPTION:The Pre-School is hosting a coffee morning for Lustleigh residents and Parents. \nDonation go to MOVEMBER \n12th November 9am – 12pm \nFree Coffee or Tea\, Cakes and Biscuits. \nPrize for the Best Tash
URL:http://www.lustleighvillagehall.co.uk/event/community-coffee-morning-hosted-by-orchard-pre-school-parents
LOCATION:Entire Hall
CATEGORIES:Public Events,Tea & Coffee
ATTACH;FMTTYPE=image/jpeg:http://www.lustleighvillagehall.co.uk/wp-content/uploads/2022/11/22-23-Community-Coffee-Morning.jpg
END:VEVENT
BEGIN:VEVENT
DTSTART;TZID=Europe/London:20221111T143000
DTEND;TZID=Europe/London:20221111T170000
DTSTAMP:20260424T180837
CREATED:20220201T154101Z
LAST-MODIFIED:20220201T154101Z
UID:6039-1668177000-1668186000@www.lustleighvillagehall.co.uk
SUMMARY:Garden Society
DESCRIPTION:Meeting
URL:http://www.lustleighvillagehall.co.uk/event/garden-society-4
LOCATION:Meeting Room/Kitchen
ORGANIZER;CN="Lustleigh Garden Club":MAILTO:erica.read@btinternet.com
END:VEVENT
BEGIN:VEVENT
DTSTART;TZID=Europe/London:20221110T193000
DTEND;TZID=Europe/London:20221110T213000
DTSTAMP:20260424T180837
CREATED:20220107T134848Z
LAST-MODIFIED:20220111T134445Z
UID:5714-1668108600-1668115800@www.lustleighvillagehall.co.uk
SUMMARY:Parish Council Meeting
DESCRIPTION:Parish Council Meetings take place every second Thursday in the month\, except in August when\, tired out by their efforts (which the Council think go mostly unappreciated) they take a holiday. Sheep in the Orchard\, planning issues\, blocked gullies\, potholes\, trees\, parking and a lot more are discussed at these meetings\, so if you have a problem\, or are simply otherwise unoccupied on the second Thursday\, then come along. This is your opportunity to barrack your Councillors\, who will be delighted and overjoyed to hear from you.
URL:http://www.lustleighvillagehall.co.uk/event/parish-council-meeting-9
LOCATION:Meeting Room\, Lustleigh Village Hall\, Lustleigh\, TQ13 9TA\, United Kingdom
CATEGORIES:Public Events
ATTACH;FMTTYPE=image/jpeg:http://www.lustleighvillagehall.co.uk/wp-content/uploads/2021/06/parish-council-meeting.jpg
ORGANIZER;CN="Lustleigh Parish Council":MAILTO:lustleighparishclerk@hotmail.com
GEO:50.6186324;-3.7197012
X-APPLE-STRUCTURED-LOCATION;VALUE=URI;X-ADDRESS=Meeting Room Lustleigh Village Hall Lustleigh TQ13 9TA United Kingdom;X-APPLE-RADIUS=500;X-TITLE=Lustleigh Village Hall:geo:-3.7197012,50.6186324
END:VEVENT
BEGIN:VEVENT
DTSTART;VALUE=DATE:20221104
DTEND;VALUE=DATE:20221106
DTSTAMP:20260424T180837
CREATED:20221008T170429Z
LAST-MODIFIED:20221008T170429Z
UID:6673-1667523600-1667609999@www.lustleighvillagehall.co.uk
SUMMARY:Duncan Hutchinson
DESCRIPTION:Private Booking
URL:http://www.lustleighvillagehall.co.uk/event/duncan-hutchinson
LOCATION:Meeting Room\, Lustleigh Village Hall\, Lustleigh\, TQ13 9TA\, United Kingdom
GEO:50.6186324;-3.7197012
X-APPLE-STRUCTURED-LOCATION;VALUE=URI;X-ADDRESS=Meeting Room Lustleigh Village Hall Lustleigh TQ13 9TA United Kingdom;X-APPLE-RADIUS=500;X-TITLE=Lustleigh Village Hall:geo:-3.7197012,50.6186324
END:VEVENT
BEGIN:VEVENT
DTSTART;TZID=Europe/London:20221101T190000
DTEND;TZID=Europe/London:20221101T210000
DTSTAMP:20260424T180837
CREATED:20221024T103226Z
LAST-MODIFIED:20221024T103226Z
UID:6750-1667329200-1667336400@www.lustleighvillagehall.co.uk
SUMMARY:MODERN SLAVERY - A Talk By Edwina Fennemore
DESCRIPTION:The talk will be given by Edwina Fennemore\, who has recently been appointed by the Diocese of Exeter as their modern slavery and anti-exploitation adviser. \nLustleigh Village Hall \nTuesday 1st November \n7.30.p.m \nCome and find out more. Refreshments will be served.
URL:http://www.lustleighvillagehall.co.uk/event/modern-slavery-a-talk-by-edwina-fennemore
LOCATION:Meeting Room\, Lustleigh Village Hall\, Lustleigh\, TQ13 9TA\, United Kingdom
CATEGORIES:Public Events,Talks and lectures
ATTACH;FMTTYPE=image/jpeg:http://www.lustleighvillagehall.co.uk/wp-content/uploads/2022/10/Modern-Slavery.jpg
ORGANIZER;CN="Jeanette Wilmot":MAILTO:moirlee12@gmail.com
GEO:50.6186324;-3.7197012
X-APPLE-STRUCTURED-LOCATION;VALUE=URI;X-ADDRESS=Meeting Room Lustleigh Village Hall Lustleigh TQ13 9TA United Kingdom;X-APPLE-RADIUS=500;X-TITLE=Lustleigh Village Hall:geo:-3.7197012,50.6186324
END:VEVENT
BEGIN:VEVENT
DTSTART;TZID=Europe/London:20221031T180000
DTEND;TZID=Europe/London:20221031T193000
DTSTAMP:20260424T180837
CREATED:20221024T153454Z
LAST-MODIFIED:20221024T160524Z
UID:6755-1667239200-1667244600@www.lustleighvillagehall.co.uk
SUMMARY:Yoga with Zoe
DESCRIPTION:
URL:http://www.lustleighvillagehall.co.uk/event/yoga-with-zoe-2/2022-10-31
LOCATION:Meeting Room\, Lustleigh Village Hall\, Lustleigh\, Devon\, TQ13 9TA\, United Kingdom
CATEGORIES:Public Events
ATTACH;FMTTYPE=image/jpeg:http://www.lustleighvillagehall.co.uk/wp-content/uploads/2022/10/Poster-for-Autumn-Term.jpg
ORGANIZER;CN="Zoe Challoner":MAILTO:zchallenor@yahoo.co.uk
GEO:50.6186324;-3.7197012
X-APPLE-STRUCTURED-LOCATION;VALUE=URI;X-ADDRESS=Meeting Room Lustleigh Village Hall Lustleigh Devon TQ13 9TA United Kingdom;X-APPLE-RADIUS=500;X-TITLE=Lustleigh Village Hall:geo:-3.7197012,50.6186324
END:VEVENT
BEGIN:VEVENT
DTSTART;TZID=Europe/London:20221027T080000
DTEND;TZID=Europe/London:20221027T170000
DTSTAMP:20260424T180837
CREATED:20220112T103850Z
LAST-MODIFIED:20220112T103850Z
UID:5958-1666857600-1666890000@www.lustleighvillagehall.co.uk
SUMMARY:Half Term
DESCRIPTION:
URL:http://www.lustleighvillagehall.co.uk/event/half-term-8
LOCATION:Meeting Room\, Lustleigh Village Hall\, Lustleigh\, Devon\, TQ13 9TA\, United Kingdom
GEO:50.6186324;-3.7197012
X-APPLE-STRUCTURED-LOCATION;VALUE=URI;X-ADDRESS=Meeting Room Lustleigh Village Hall Lustleigh Devon TQ13 9TA United Kingdom;X-APPLE-RADIUS=500;X-TITLE=Lustleigh Village Hall:geo:-3.7197012,50.6186324
END:VEVENT
BEGIN:VEVENT
DTSTART;TZID=Europe/London:20221026T190000
DTEND;TZID=Europe/London:20221026T223000
DTSTAMP:20260424T180837
CREATED:20221010T143048Z
LAST-MODIFIED:20221010T143048Z
UID:6694-1666810800-1666823400@www.lustleighvillagehall.co.uk
SUMMARY:Drama Rehearsal MR
DESCRIPTION:
URL:http://www.lustleighvillagehall.co.uk/event/drama-rehearsal-mr/2022-10-26
LOCATION:Meeting Room\, Lustleigh Village Hall\, Lustleigh\, TQ13 9TA\, United Kingdom
ORGANIZER;CN="Alexa Mason":MAILTO:alexa.uplands@gmail.com
GEO:50.6186324;-3.7197012
X-APPLE-STRUCTURED-LOCATION;VALUE=URI;X-ADDRESS=Meeting Room Lustleigh Village Hall Lustleigh TQ13 9TA United Kingdom;X-APPLE-RADIUS=500;X-TITLE=Lustleigh Village Hall:geo:-3.7197012,50.6186324
END:VEVENT
BEGIN:VEVENT
DTSTART;TZID=Europe/London:20221024T190000
DTEND;TZID=Europe/London:20221024T210000
DTSTAMP:20260424T180837
CREATED:20220902T120102Z
LAST-MODIFIED:20221012T182616Z
UID:6566-1666638000-1666645200@www.lustleighvillagehall.co.uk
SUMMARY:Talk on the "Aerial Atlas of Ancient Britain" - by David Abram
DESCRIPTION:Talk on the “Aerial Atlas of Ancient Britain” – by DAVID ABRAM – Photographer \nMonday Oct 24th \n7.30pm \nCome to Lustleigh Village Hall for an evening of inspirational images from author and photographer\, David R Abram. \nDavid has spent the past five years capturing views of Britain’s most extraordinary prehistoric sites from above in rare\, sunrise light using drones and telescopic poles. Whether Neolithic tombs in Orkney\, Bronze Age ceremonial sites in Snowdonia or the enigmatic stone monuments erected by our ancestors on Dartmoor\, his images reveal forms invisible at ground level\, and intriguing connections between the monuments and their varied landscapes. \nLively and rich with archaeological insight\, David’s talk will cherry pick highlights from his new book\, the Aerial Atlas of Ancient Britain (just published by Thames & Hudson\, with a Foreword by Professor Alice Roberts)\, which charts the arc of British prehistory from the end of the Ice Age to the arrival of the Romans. \nThis is a rare opportunity to see his most acclaimed work projected at scale – an experience that is sure to inspire visits to prehistoric sites in the area you already know\, and many you don’t! If you were lucky enough to catch his recent exhibition at Salisbury Museum\, you’ll know what a treat we are in for. \nSigned copies of the Aerial Atlas of Ancient Britain will be on sale at talk. \n7.30pm (doors open at 7pm) \nTickets will be on sale at the door\, but may be booked in advance via Eventbrite: \nhttps://www.eventbrite.co.uk/myevent?eid=415358698047 \n 
URL:http://www.lustleighvillagehall.co.uk/event/aerial-atlas-of-ancient-britain
LOCATION:Main Hall/Kit
CATEGORIES:Public Events,Talks and lectures
ATTACH;FMTTYPE=image/jpeg:http://www.lustleighvillagehall.co.uk/wp-content/uploads/2022/09/David-Abram-1.jpg
ORGANIZER;CN="David Abram":MAILTO:mail@davidabram.co.uk
END:VEVENT
BEGIN:VEVENT
DTSTART;TZID=Europe/London:20221024T080000
DTEND;TZID=Europe/London:20221026T170000
DTSTAMP:20260424T180837
CREATED:20220112T103728Z
LAST-MODIFIED:20220112T103728Z
UID:5956-1666598400-1666803600@www.lustleighvillagehall.co.uk
SUMMARY:Half Term
DESCRIPTION:
URL:http://www.lustleighvillagehall.co.uk/event/half-term-7
LOCATION:Meeting Room\, Lustleigh Village Hall\, Lustleigh\, Devon\, TQ13 9TA\, United Kingdom
GEO:50.6186324;-3.7197012
X-APPLE-STRUCTURED-LOCATION;VALUE=URI;X-ADDRESS=Meeting Room Lustleigh Village Hall Lustleigh Devon TQ13 9TA United Kingdom;X-APPLE-RADIUS=500;X-TITLE=Lustleigh Village Hall:geo:-3.7197012,50.6186324
END:VEVENT
BEGIN:VEVENT
DTSTART;TZID=Europe/London:20221023T130000
DTEND;TZID=Europe/London:20221023T170000
DTSTAMP:20260424T180837
CREATED:20221010T142627Z
LAST-MODIFIED:20230323T104523Z
UID:6675-1666530000-1666544400@www.lustleighvillagehall.co.uk
SUMMARY:Drama Group Rehearsal MH
DESCRIPTION:
URL:http://www.lustleighvillagehall.co.uk/event/drama-group-rehearsal/2022-10-23
LOCATION:Meeting Room\, Lustleigh Village Hall\, Lustleigh\, Devon\, TQ13 9TA\, United Kingdom
ORGANIZER;CN="Alexa Mason":MAILTO:alexa.uplands@gmail.com
GEO:50.6186324;-3.7197012
X-APPLE-STRUCTURED-LOCATION;VALUE=URI;X-ADDRESS=Meeting Room Lustleigh Village Hall Lustleigh Devon TQ13 9TA United Kingdom;X-APPLE-RADIUS=500;X-TITLE=Lustleigh Village Hall:geo:-3.7197012,50.6186324
END:VEVENT
BEGIN:VEVENT
DTSTART;TZID=Europe/London:20221022T193000
DTEND;TZID=Europe/London:20221022T230000
DTSTAMP:20260424T180837
CREATED:20220425T175843Z
LAST-MODIFIED:20220926T095202Z
UID:6329-1666467000-1666479600@www.lustleighvillagehall.co.uk
SUMMARY:LEAP Presents: 'The DARTMOOR CONCERT'
DESCRIPTION:LEAP Presents…. \nTHE DARTMOOR CONCERT: Celebrating the best of Dartmoor’s music and musicians.   \n \nA fantastic line-up including…. \nJIM CAUSLEY \nBILL MURRAY \nGEOFF LAKEMAN \nROB MURCH \n Plus……………. some local surprise guests! \nLicenced Bar (kindly supported by The Dartmoor Brewery) \nLustleigh Village Hall\, Saturday October 22nd at 7.30pm. \nTickets £12.00. \nTickets from Lustleigh Dairy and Ticketsource via this link: \nhttps://www.ticketsource.co.uk/lustleigh-entertainment-and-arts-project/t-vvelqmg
URL:http://www.lustleighvillagehall.co.uk/event/dartmoor-folk-event
LOCATION:Entire Hall
CATEGORIES:LEAP,Public Events
ATTACH;FMTTYPE=image/jpeg:http://www.lustleighvillagehall.co.uk/wp-content/uploads/2022/04/Causley-1.jpg
ORGANIZER;CN="LEAP":MAILTO:leap.lustleigh@gmail.com
END:VEVENT
BEGIN:VEVENT
DTSTART;TZID=Europe/London:20221022T100000
DTEND;TZID=Europe/London:20221022T110000
DTSTAMP:20260424T180837
CREATED:20220710T182722Z
LAST-MODIFIED:20220724T130850Z
UID:6486-1666432800-1666436400@www.lustleighvillagehall.co.uk
SUMMARY:Dairy AGM
DESCRIPTION:
URL:http://www.lustleighvillagehall.co.uk/event/dairy-agm
LOCATION:Meeting Room\, Lustleigh Village Hall\, Lustleigh\, TQ13 9TA\, United Kingdom
GEO:50.6186324;-3.7197012
X-APPLE-STRUCTURED-LOCATION;VALUE=URI;X-ADDRESS=Meeting Room Lustleigh Village Hall Lustleigh TQ13 9TA United Kingdom;X-APPLE-RADIUS=500;X-TITLE=Lustleigh Village Hall:geo:-3.7197012,50.6186324
END:VEVENT
BEGIN:VEVENT
DTSTART;TZID=Europe/London:20221019T190000
DTEND;TZID=Europe/London:20221019T223000
DTSTAMP:20260424T180837
CREATED:20220110T142418Z
LAST-MODIFIED:20220804T115123Z
UID:5793-1666206000-1666218600@www.lustleighvillagehall.co.uk
SUMMARY:Lustleigh Society
DESCRIPTION:
URL:http://www.lustleighvillagehall.co.uk/event/lustleigh-society-22-2022-10-19/2022-10-19
LOCATION:Main Hall/Kit
ORGANIZER;CN="Lustleigh Society":MAILTO:lustleighsec@gmail.com
END:VEVENT
BEGIN:VEVENT
DTSTART;TZID=Europe/London:20221019T190000
DTEND;TZID=Europe/London:20221019T223000
DTSTAMP:20260424T180837
CREATED:20220110T142418Z
LAST-MODIFIED:20221019T092139Z
UID:5794-1666206000-1666218600@www.lustleighvillagehall.co.uk
SUMMARY:CANCELLED - Lustleigh Society presents...“JMW Turner in the West Country”
DESCRIPTION:We regret to inform you we have just heard that Dr Sam Smiles is unwell and therefore tonight’s talk on JMW Turner has been cancelled. \nThe Lustleigh Society – Wednesday 19th October 2022. \n“JMW Turner in the West Country” \nSpeaker – Professor Sam Smiles \nProfessor Smiles is Britain’s leading expert on JMW Turner. He will discuss how Turner captured the Essence of the charm of Devon’s unique landscapes. \nThe presentation will take place at Lustleigh Village Hall – 7.15pm for 7.30pm. \nPlease come along and join us\, and enjoy a glass of wine before the presentation. \nNon-member’s welcome. \nPlease call Lynn on 07852 998153 for further details.
URL:http://www.lustleighvillagehall.co.uk/event/lustleigh-society-22-2022-11-30
LOCATION:Main Hall/Kit
CATEGORIES:Lustleigh Society,Public Events
ATTACH;FMTTYPE=image/jpeg:http://www.lustleighvillagehall.co.uk/wp-content/uploads/2022/01/joseph_mallord_william_turner_plymouth_tsi.width-340.jpg
ORGANIZER;CN="Lustleigh Society":MAILTO:lustleighsec@gmail.com
END:VEVENT
BEGIN:VEVENT
DTSTART;TZID=Europe/London:20221016T150000
DTEND;TZID=Europe/London:20221016T170000
DTSTAMP:20260424T180837
CREATED:20220623T155044Z
LAST-MODIFIED:20220914T191815Z
UID:6439-1665932400-1665939600@www.lustleighvillagehall.co.uk
SUMMARY:Divertimento Concert - Sunday October 16th at 3.00pm
DESCRIPTION:  \nDivertimento Concert \nThe next Divertimento String Quartet Concert in the Village Hall takes place on Sunday October16th at 3.00pm. The programme has 3 works: \nBoccherini (1743-1805)             Quartet Op 2. No.1 in C minor. \nErwin Schulhoff (1894-1942)    Five Pieces 1923/4. \nBeethoven (1770-1827)            Quartet No.9.  Op.59. No.3 in C minor (known as the 3rd Razumovsky Quartet). \nAndrew\, the Divertimento Viola player\,  has contributed the following: \nWhat’s in a dedication? A huge amount\, certainly in the case of the pieces we are performing.   Luigi Boccherini’s Quartet is dedicated to  ”all true music lovers and connoisseurs of music”.  Erwin Schulhoff dedicated his 5 Pieces to the French composer Darius Milhaud and Beethoven’s work is the 3rd of 3 Quartets dedicated to the Russian patron Count Razumovsky.   All three pieces are centered around the crucial note C starting in dramatic C minor in Boccherini\,  through a fascinating kaleidoscope of the Schulhoff treatment  and finishing with the brilliance of Beethoven’s C major finale. \nI am sure we will\, as usual\, be treated to a wonderful and varied concert of familiar and unfamiliar music performed by this superb quartet. \nTickets\, as usual\, available in the Dairy or On the door:   Adults £15 (plus a kindly optional donation to help cover our rising costs if you would like to give us further support)  and students/children Free. \n—\nWill Carnell T: 01647 277 270
URL:http://www.lustleighvillagehall.co.uk/event/divertimento
LOCATION:Entire Hall
CATEGORIES:Entertainment,Public Events
ATTACH;FMTTYPE=image/jpeg:http://www.lustleighvillagehall.co.uk/wp-content/uploads/2017/08/Divertimento-String-Quartet.jpg
END:VEVENT
BEGIN:VEVENT
DTSTART;TZID=Europe/London:20221014T090000
DTEND;TZID=Europe/London:20221014T123000
DTSTAMP:20260424T180837
CREATED:20220914T174923Z
LAST-MODIFIED:20220914T174923Z
UID:6634-1665738000-1665750600@www.lustleighvillagehall.co.uk
SUMMARY:Preschool - First Aid
DESCRIPTION:Training for Staff
URL:http://www.lustleighvillagehall.co.uk/event/preschool-first-aid
LOCATION:Meeting Room\, Lustleigh Village Hall\, Lustleigh\, Devon\, TQ13 9TA\, United Kingdom
GEO:50.6186324;-3.7197012
X-APPLE-STRUCTURED-LOCATION;VALUE=URI;X-ADDRESS=Meeting Room Lustleigh Village Hall Lustleigh Devon TQ13 9TA United Kingdom;X-APPLE-RADIUS=500;X-TITLE=Lustleigh Village Hall:geo:-3.7197012,50.6186324
END:VEVENT
BEGIN:VEVENT
DTSTART;TZID=Europe/London:20221013T193000
DTEND;TZID=Europe/London:20221013T213000
DTSTAMP:20260424T180837
CREATED:20220107T134701Z
LAST-MODIFIED:20220111T134352Z
UID:5712-1665689400-1665696600@www.lustleighvillagehall.co.uk
SUMMARY:Parish Council Meeting
DESCRIPTION:Parish Council Meetings take place every second Thursday in the month\, except in August when\, tired out by their efforts (which the Council think go mostly unappreciated) they take a holiday. Sheep in the Orchard\, planning issues\, blocked gullies\, potholes\, trees\, parking and a lot more are discussed at these meetings\, so if you have a problem\, or are simply otherwise unoccupied on the second Thursday\, then come along. This is your opportunity to barrack your Councillors\, who will be delighted and overjoyed to hear from you.
URL:http://www.lustleighvillagehall.co.uk/event/parish-council-meeting-8
LOCATION:Meeting Room\, Lustleigh Village Hall\, Lustleigh\, TQ13 9TA\, United Kingdom
CATEGORIES:Public Events
ATTACH;FMTTYPE=image/jpeg:http://www.lustleighvillagehall.co.uk/wp-content/uploads/2021/06/parish-council-meeting.jpg
ORGANIZER;CN="Lustleigh Parish Council":MAILTO:lustleighparishclerk@hotmail.com
GEO:50.6186324;-3.7197012
X-APPLE-STRUCTURED-LOCATION;VALUE=URI;X-ADDRESS=Meeting Room Lustleigh Village Hall Lustleigh TQ13 9TA United Kingdom;X-APPLE-RADIUS=500;X-TITLE=Lustleigh Village Hall:geo:-3.7197012,50.6186324
END:VEVENT
BEGIN:VEVENT
DTSTART;TZID=Europe/London:20221010T160000
DTEND;TZID=Europe/London:20221010T170000
DTSTAMP:20260424T180838
CREATED:20220905T173742Z
LAST-MODIFIED:20220905T173742Z
UID:6570-1665417600-1665421200@www.lustleighvillagehall.co.uk
SUMMARY:V Hall Meeting
DESCRIPTION:
URL:http://www.lustleighvillagehall.co.uk/event/v-hall-meeting
LOCATION:Meeting Room\, Lustleigh Village Hall\, Lustleigh\, TQ13 9TA\, United Kingdom
GEO:50.6186324;-3.7197012
X-APPLE-STRUCTURED-LOCATION;VALUE=URI;X-ADDRESS=Meeting Room Lustleigh Village Hall Lustleigh TQ13 9TA United Kingdom;X-APPLE-RADIUS=500;X-TITLE=Lustleigh Village Hall:geo:-3.7197012,50.6186324
END:VEVENT
BEGIN:VEVENT
DTSTART;TZID=Europe/London:20221007T100000
DTEND;TZID=Europe/London:20221007T120000
DTSTAMP:20260424T180838
CREATED:20220917T134640Z
LAST-MODIFIED:20220917T134640Z
UID:6656-1665136800-1665144000@www.lustleighvillagehall.co.uk
SUMMARY:World War II Book meeting
DESCRIPTION:
URL:http://www.lustleighvillagehall.co.uk/event/world-war-ii-book-meeting
LOCATION:Meeting Room\, Lustleigh Village Hall\, Lustleigh\, TQ13 9TA\, United Kingdom
ORGANIZER;CN="Chris Wilson":MAILTO:chadwilson@live.co.uk
GEO:50.6186324;-3.7197012
X-APPLE-STRUCTURED-LOCATION;VALUE=URI;X-ADDRESS=Meeting Room Lustleigh Village Hall Lustleigh TQ13 9TA United Kingdom;X-APPLE-RADIUS=500;X-TITLE=Lustleigh Village Hall:geo:-3.7197012,50.6186324
END:VEVENT
BEGIN:VEVENT
DTSTART;TZID=Europe/London:20220930T130000
DTEND;TZID=Europe/London:20220930T170000
DTSTAMP:20260424T180838
CREATED:20220926T084244Z
LAST-MODIFIED:20220926T084244Z
UID:6665-1664542800-1664557200@www.lustleighvillagehall.co.uk
SUMMARY:Carole Manniex
DESCRIPTION:Dance practice
URL:http://www.lustleighvillagehall.co.uk/event/carole-manniex-2
LOCATION:Meeting Room\, Lustleigh Village Hall\, Lustleigh\, Devon\, TQ13 9TA\, United Kingdom
GEO:50.6186324;-3.7197012
X-APPLE-STRUCTURED-LOCATION;VALUE=URI;X-ADDRESS=Meeting Room Lustleigh Village Hall Lustleigh Devon TQ13 9TA United Kingdom;X-APPLE-RADIUS=500;X-TITLE=Lustleigh Village Hall:geo:-3.7197012,50.6186324
END:VEVENT
BEGIN:VEVENT
DTSTART;TZID=Europe/London:20220928T190000
DTEND;TZID=Europe/London:20220928T223000
DTSTAMP:20260424T180838
CREATED:20220110T142418Z
LAST-MODIFIED:20220804T115815Z
UID:5791-1664391600-1664404200@www.lustleighvillagehall.co.uk
SUMMARY:Lustleigh Society Presents...Lost Devon “Forgotten stories from Devon’s Past”
DESCRIPTION:The Lustleigh Society \nWednesday 28th September  2022 – 7.15 for 7.30pm \nLost Devon “Forgotten stories from Devon’s Past” \nSpeaker – Felicity Goodall \nFelicity Goodall will talk about her book\, which is full of superbly illustrated photographs\, paintings\, maps and etchings from the country’s museums and art collections. Her talk will provide a fascinating insight into Devon’s history and what little now remains of the past. \nOur meetings are held at Lustleigh Village Hall\, \nPlease come and join us for a sociable glass of wine before the meeting. \nNon-members welcome. \nContact Lynn on 07852 998153 for any details.
URL:http://www.lustleighvillagehall.co.uk/event/lustleigh-society-22
LOCATION:Main Hall/Kit
CATEGORIES:Lustleigh Society,Public Events
ATTACH;FMTTYPE=image/jpeg:http://www.lustleighvillagehall.co.uk/wp-content/uploads/2022/01/Lost-Devon-1.jpg
ORGANIZER;CN="Lustleigh Society":MAILTO:lustleighsec@gmail.com
END:VEVENT
END:VCALENDAR